BEGIN:VCALENDAR
VERSION:2.0
PRODID:-//ChamberMaster//Event Calendar 2.0//EN
METHOD:PUBLISH
X-PUBLISHED-TTL:P3D
REFRESH-INTERVAL:P3D
CALSCALE:GREGORIAN
BEGIN:VEVENT
DTSTART:20180124T143000Z
DTEND:20180124T160000Z
X-MICROSOFT-CDO-ALLDAYEVENT:FALSE
SUMMARY:Net Neutrality Seminar\, sponsored by Surf Air Wireless & Qubit Networks
DESCRIPTION:On December 14\, the Federal Communications Commission voted to enact the Restoring Internet Freedom Act (RIFA) which repealed internet neutrality rules. The rollback of net neutrality regulations\, depending on whom you listen to\, is either the death of the internet as we know it or the unleashing of a new era of innovation and growth. Understanding the issue is difficult\, to say the least.\n\n\n\nAs a service to La Porte Chamber members\, Surf Air Wireless and Qubit Networks are sponsoring an informational forum about the repeal of internet neutrality. As changes come to internet services as the result of regulatory rollback\, is the outlook bleak or bright for local businesses and governments?\n\n\n\nPaul S. Maxwell\, a nationally recognized communications industry analyst and the regulatory advisor to the Surf Air Wireless family of tech businesses\, will help business owners and government officials by offering insights and real information about net neutrality's repeal.\n\n\n\nMaxwell will address questions such as:\n\n	What bearing does the RIFA have on the day-to-day operations of local businesses and governments?\n	Will providers charge extra for access to certain data like cloud-based applications?\n	Will businesses face increased operational costs to maintain their current level of service?\n	Can providers really block\, slow\, censor or redirect internet traffic?\n	What role will state and local governments play in this new state of affairs?
X-ALT-DESC;FMTTYPE=text/html:On December 14\, the Federal Communications Commission voted to enact the Restoring Internet Freedom Act (RIFA) which repealed internet neutrality rules. The rollback of net neutrality regulations\, depending on whom you listen to\, is either the death of the internet as we know it or the unleashing of a new era of innovation and growth. Understanding the issue is difficult\, to say the least.<br />\n<br />\nAs a service to La Porte&nbsp\;Chamber members\,<strong> <a href="http://www.surfairwireless.net/">Surf Air Wireless</a></strong> and <strong><a href="https://www.qubitnet.com/">Qubit Networks</a></strong>&nbsp\;are sponsoring an informational forum about the repeal of internet neutrality. As changes come to internet services as the result of regulatory rollback\, is the outlook bleak or bright for local businesses and governments?<br />\n<br />\nPaul S. Maxwell\, a nationally recognized communications industry analyst and the regulatory advisor to the Surf Air Wireless family of tech businesses\, will help business owners and government officials by offering insights and real information about net neutrality&rsquo\;s repeal.<br />\n<br />\nMaxwell will address questions such as:\n<ul>\n	<li>What bearing does the RIFA have on the day-to-day operations of local businesses and governments?</li>\n	<li>Will providers charge extra for access to certain data like cloud-based applications?</li>\n	<li>Will businesses face increased operational costs to maintain their current level of service?</li>\n	<li>Can providers really block\, slow\, censor or redirect internet traffic?</li>\n	<li>What role will state and local governments play in this new state of affairs?</li>\n</ul>\n
LOCATION:Greater La Porte Chamber of Commerce 803 Washington Street
UID:e.1949.3000
SEQUENCE:3
DTSTAMP:20260424T193358Z
URL:https://members.laportepartnership.com/events/details/net-neutrality-seminar-sponsored-by-surf-air-wireless-qubit-networks-3000
END:VEVENT

END:VCALENDAR
