BEGIN:VCALENDAR
VERSION:2.0
PRODID:-//ChamberMaster//Event Calendar 2.0//EN
METHOD:PUBLISH
X-PUBLISHED-TTL:P3D
REFRESH-INTERVAL:P3D
CALSCALE:GREGORIAN
BEGIN:VEVENT
DTSTART:20191017T210000Z
DTEND:20191017T230000Z
X-MICROSOFT-CDO-ALLDAYEVENT:FALSE
SUMMARY:New Compost Site Ribbong Cutting Ceremony
DESCRIPTION:Please join us to officially open the Solid Waste District of La Porte County's new compost site! The event will take place at the new site located on Ziegler Road beginning at 4:00 p.m. The ribbon will be cut at 4:30 p.m. Refreshments will be provided.
X-ALT-DESC;FMTTYPE=text/html:Please join us to officially open the Solid Waste District of La Porte County&#39\;s new compost site! The event will take place at the new site located on Ziegler Road beginning at 4:00 p.m. The ribbon will be cut at 4:30 p.m. Refreshments will be provided.
LOCATION:Ziegler Road Compost Site La Porte
UID:e.1949.4544
SEQUENCE:3
DTSTAMP:20260423T080800Z
URL:https://members.laportepartnership.com/events/details/new-compost-site-ribbong-cutting-ceremony-4544
END:VEVENT

END:VCALENDAR
