BEGIN:VCALENDAR
VERSION:2.0
PRODID:-//ChamberMaster//Event Calendar 2.0//EN
METHOD:PUBLISH
X-PUBLISHED-TTL:P3D
REFRESH-INTERVAL:P3D
CALSCALE:GREGORIAN
BEGIN:VEVENT
DTSTART:20240123T230000Z
DTEND:20240124T010000Z
X-MICROSOFT-CDO-ALLDAYEVENT:FALSE
SUMMARY:New Year\, New Network
DESCRIPTION:You're invited!\n\nBring a friend\, bring your spouse\, or bring a co-worker and join the La Porte Young Professionals for a night of networking\, great food\, and cocktails at Bare Bones!
X-ALT-DESC;FMTTYPE=text/html:You&#39\;re invited!<br />\nBring a friend\, bring your spouse\, or bring a co-worker and join the La Porte Young Professionals for a night of networking\, great food\, and cocktails at Bare Bones!
LOCATION:Bare Bones Gastropub 518 Lincolnway\, La Porte
UID:e.1949.5020
SEQUENCE:3
DTSTAMP:20260420T081051Z
URL:https://members.laportepartnership.com/events/details/new-year-new-network-5020
END:VEVENT

END:VCALENDAR
