BEGIN:VCALENDAR
VERSION:2.0
PRODID:-//ChamberMaster//Event Calendar 2.0//EN
METHOD:PUBLISH
X-PUBLISHED-TTL:P3D
REFRESH-INTERVAL:P3D
CALSCALE:GREGORIAN
BEGIN:VEVENT
DTSTART:20191220T230000Z
DTEND:20191221T010000Z
X-MICROSOFT-CDO-ALLDAYEVENT:FALSE
SUMMARY:NIGHT AT THE GIESE CHURCH
DESCRIPTION:Join the La Porte County Historical Society Museum for a Christmas night to remember. The Giese church will be lit up\, and will take you back in time. Hot beverages and refreshments will be served.
X-ALT-DESC;FMTTYPE=text/html:Join the La Porte County Historical Society Museum for a Christmas night to remember. The Giese church will be lit up\, and will take you back in time. Hot beverages and refreshments will be served.
LOCATION:La Porte County Historical Society Museum
UID:e.1949.4371
SEQUENCE:3
DTSTAMP:20260423T024317Z
URL:https://members.laportepartnership.com/events/details/night-at-the-giese-church-4371
END:VEVENT

END:VCALENDAR
