BEGIN:VCALENDAR
VERSION:2.0
PRODID:-//ChamberMaster//Event Calendar 2.0//EN
METHOD:PUBLISH
X-PUBLISHED-TTL:P3D
REFRESH-INTERVAL:P3D
CALSCALE:GREGORIAN
BEGIN:VEVENT
DTSTART:20160922T123000Z
DTEND:20160922T210000Z
X-MICROSOFT-CDO-ALLDAYEVENT:FALSE
SUMMARY:NIHRMA Fall Conference- Change It Up! Change\, Engage\, and Develop Your Talent
DESCRIPTION:Change It Up! Change\, Engage\, and Develop Your Talent\n\n\n\nChris Stevens - Opening Keynote\n\n"Change Management"\n\nAdjunct Professor - Mendoza College at University of Notre Dame & Co-Founder of Keurig\n\n\n\nJerry Scott - Lunch Keynote\n\n"Leadership & Culture"\n\nChief Operating Officer\, Gibson\n\n\n\nTony Sindone - Closing Keynote\n\n"Top 3 Way to Develop our Most Valuable Resource"\n\nContinuing Lecturer\, Business Economics & Finance and Director\, Center for Economic Development and Research at PNC\n\n\n\nAlso Presenting:\n\nADA/FMLA/Worker's Compensation\, DiSC - Leading Diverse Personalities\, Financial Wealth Management\, Work/Life Balance\n\n\n\nEARLY BIRD DEADLINE: August 1\, 2016\n\n$75 Members / $95 Non-Members\n\n\n\nSHRM PCDs & HRCI Recertification Credit Hours Pending. CLE\, MCLE Certification Credits Pending. \n\n\n\nSPONSORSHIPS AVAILABLE - contact nihrma@gmail.com for more information
X-ALT-DESC;FMTTYPE=text/html:<span style="color: rgb(75\, 79\, 86)\; font-family: helvetica\, arial\, sans-serif\; font-size: 14px\; line-height: 18.76px\;">Change It Up! Change\, Engage\, and Develop Your Talent</span><br style="color: rgb(75\, 79\, 86)\; font-family: helvetica\, arial\, sans-serif\; font-size: 14px\; line-height: 18.76px\;" />\n<br style="color: rgb(75\, 79\, 86)\; font-family: helvetica\, arial\, sans-serif\; font-size: 14px\; line-height: 18.76px\;" />\n<span style="color: rgb(75\, 79\, 86)\; font-family: helvetica\, arial\, sans-serif\; font-size: 14px\; line-height: 18.76px\;">Chris Stevens - Opening Keynote</span><br style="color: rgb(75\, 79\, 86)\; font-family: helvetica\, arial\, sans-serif\; font-size: 14px\; line-height: 18.76px\;" />\n<span style="color: rgb(75\, 79\, 86)\; font-family: helvetica\, arial\, sans-serif\; font-size: 14px\; line-height: 18.76px\;">&quot\;Change Management&quot\;</span><br style="color: rgb(75\, 79\, 86)\; font-family: helvetica\, arial\, sans-serif\; font-size: 14px\; line-height: 18.76px\;" />\n<span style="color: rgb(75\, 79\, 86)\; font-family: helvetica\, arial\, sans-serif\; font-size: 14px\; line-height: 18.76px\;">Adjunct Professor - Mendoza College at University of Notre Dame &amp\; Co-Founder of Keurig</span><br style="color: rgb(75\, 79\, 86)\; font-family: helvetica\, arial\, sans-serif\; font-size: 14px\; line-height: 18.76px\;" />\n<br style="color: rgb(75\, 79\, 86)\; font-family: helvetica\, arial\, sans-serif\; font-size: 14px\; line-height: 18.76px\;" />\n<span style="color: rgb(75\, 79\, 86)\; font-family: helvetica\, arial\, sans-serif\; font-size: 14px\; line-height: 18.76px\;">Jerry Scott - Lunch Keynote</span><br style="color: rgb(75\, 79\, 86)\; font-family: helvetica\, arial\, sans-serif\; font-size: 14px\; line-height: 18.76px\;" />\n<span style="color: rgb(75\, 79\, 86)\; font-family: helvetica\, arial\, sans-serif\; font-size: 14px\; line-height: 18.76px\;">&quot\;Leadership &amp\; Culture&quot\;</span><br style="color: rgb(75\, 79\, 86)\; font-family: helvetica\, arial\, sans-serif\; font-size: 14px\; line-height: 18.76px\;" />\n<span style="color: rgb(75\, 79\, 86)\; font-family: helvetica\, arial\, sans-serif\; font-size: 14px\; line-height: 18.76px\;">Chief Operating Officer\, Gibson</span><br style="color: rgb(75\, 79\, 86)\; font-family: helvetica\, arial\, sans-serif\; font-size: 14px\; line-height: 18.76px\;" />\n<br style="color: rgb(75\, 79\, 86)\; font-family: helvetica\, arial\, sans-serif\; font-size: 14px\; line-height: 18.76px\;" />\n<span style="color: rgb(75\, 79\, 86)\; font-family: helvetica\, arial\, sans-serif\; font-size: 14px\; line-height: 18.76px\;">Tony Sindone - Closing Keynote</span><br style="color: rgb(75\, 79\, 86)\; font-family: helvetica\, arial\, sans-serif\; font-size: 14px\; line-height: 18.76px\;" />\n<span style="color: rgb(75\, 79\, 86)\; font-family: helvetica\, arial\, sans-serif\; font-size: 14px\; line-height: 18.76px\;">&quot\;Top 3 Way to Develop our Most Valuable Resource&quot\;</span><br />\n<span class="text_exposed_show" style="display: inline\; color: rgb(75\, 79\, 86)\; font-family: helvetica\, arial\, sans-serif\; font-size: 14px\; line-height: 18.76px\;">Continuing Lecturer\, Business Economics &amp\; Finance and Director\, Center for Economic Development and Research at PNC<br />\n<br />\nAlso Presenting:<br />\nADA/FMLA/Worker&#39\;s Compensation\, DiSC - Leading Diverse Personalities\, Financial Wealth Management\, Work/Life Balance<br />\n<br />\nEARLY BIRD DEADLINE: August 1\, 2016<br />\n$75 Members / $95 Non-Members<br />\n<br />\nSHRM PCDs &amp\; HRCI Recertification Credit Hours Pending. CLE\, MCLE Certification Credits Pending.&nbsp\;<br />\n<br />\nSPONSORSHIPS AVAILABLE - contact nihrma@gmail.com for more information</span>
LOCATION:Heston Hills Event Center 1933 E 1000 N La Porte
UID:e.1949.2555
SEQUENCE:3
DTSTAMP:20260426T003443Z
URL:https://members.laportepartnership.com/events/details/nihrma-fall-conference-change-it-up-change-engage-and-develop-your-talent-09-22-2016-2555
END:VEVENT

END:VCALENDAR
