BEGIN:VCALENDAR
VERSION:2.0
PRODID:-//ChamberMaster//Event Calendar 2.0//EN
METHOD:PUBLISH
X-PUBLISHED-TTL:P3D
REFRESH-INTERVAL:P3D
CALSCALE:GREGORIAN
BEGIN:VEVENT
DTSTART:20180925T130000Z
DTEND:20180925T210000Z
X-MICROSOFT-CDO-ALLDAYEVENT:FALSE
SUMMARY:NIHRMA Fall Conference - WorkFierce
DESCRIPTION:Each year\, NIHRMA offers interesting and innovative information to its members and community business leaders at our Annual Fall Conference. Join us for another exciting line up of speakers!
X-ALT-DESC;FMTTYPE=text/html:Each year\, NIHRMA offers interesting and innovative information to its members and community business leaders at our Annual Fall Conference. Join us for another exciting line up of speakers!
LOCATION:Purdue North West Dworkin Center 1401 W US 421 Westville\, IN 46391
UID:e.1949.4229
SEQUENCE:3
DTSTAMP:20260424T040443Z
URL:https://members.laportepartnership.com/events/details/nihrma-fall-conference-workfierce-4229
END:VEVENT

END:VCALENDAR
