BEGIN:VCALENDAR
VERSION:2.0
PRODID:-//ChamberMaster//Event Calendar 2.0//EN
METHOD:PUBLISH
X-PUBLISHED-TTL:P3D
REFRESH-INTERVAL:P3D
CALSCALE:GREGORIAN
BEGIN:VEVENT
DTSTART:20161115T170000Z
DTEND:20161115T190000Z
X-MICROSOFT-CDO-ALLDAYEVENT:FALSE
SUMMARY:NIHRMA November Meeting- 2017 Legislative Update & Forecast Following Presidential Change in Office
DESCRIPTION:November Membership Meeting:\n\n2017 Legislative Update & Forecast Following Presidential Change in Office\nSpeakers: Mark Philips and Nick Otis\n\n                   Newby\, Lewis\, Kaminski Jones LLP\n\n \n\nPresenting: OSHA (Post accident drug testing\, Increase in civil penalties)\, EEO-1 Reporting Requirements regarding disparity in pay)\, DOL (New overtime rules\, Joint employers)\, NLRB (Redefining joint employers)\, EEOC (Wellness programs)\, GINA\n\n \n\nSponsored by:  Newby Lewis Kaminski Jones\, LLP\n\n\n\n\n\nClick here to Register Now!
X-ALT-DESC;FMTTYPE=text/html:<h1 style="text-align:center"><span style="font-size:18.0pt">November Membership Meeting:</span></h1>\n\n<h1 style="text-align:center"><span style="font-size:17.0pt">2017 Legislative Update &amp\; Forecast Following Presidential Change in Office</span></h1>\n<span style="font-size:14px"><strong>Speakers:</strong> Mark Philips and Nick Otis<br />\n&nbsp\;&nbsp\;&nbsp\;&nbsp\;&nbsp\;&nbsp\;&nbsp\;&nbsp\;&nbsp\;&nbsp\;&nbsp\;&nbsp\;&nbsp\;&nbsp\;&nbsp\;&nbsp\;&nbsp\;&nbsp\; Newby\, Lewis\, Kaminski Jones LLP<br />\n&nbsp\;<br />\n<strong>Presenting:</strong> OSHA (Post accident drug testing\, Increase in civil penalties)\, EEO-1 Reporting Requirements regarding disparity in pay)\, DOL (New overtime rules\, Joint employers)\, NLRB (Redefining joint employers)\, EEOC (Wellness programs)\, GINA<br />\n&nbsp\;<br />\n<strong>Sponsored by: &nbsp\;</strong>Newby Lewis Kaminski Jones\, LLP<br />\n<br />\n<br />\n<em><strong><a href="http://nihrma.shrm.org/forms/registration-form-nihrma-november-meeting">Click here to Register Now!</a></strong></em></span><br />\n&nbsp\;
LOCATION:Red Mill County Park 0185 South Holmesville Road La Porte\, IN 46350
UID:e.1949.2661
SEQUENCE:3
DTSTAMP:20260425T204504Z
URL:https://members.laportepartnership.com/events/details/nihrma-november-meeting-2017-legislative-update-forecast-following-presidential-change-in-office-2661
END:VEVENT

END:VCALENDAR
