BEGIN:VCALENDAR
VERSION:2.0
PRODID:-//ChamberMaster//Event Calendar 2.0//EN
METHOD:PUBLISH
X-PUBLISHED-TTL:P3D
REFRESH-INTERVAL:P3D
CALSCALE:GREGORIAN
BEGIN:VEVENT
DTSTART;VALUE=DATE:20180209
DTEND;VALUE=DATE:20180212
TRANSP:TRANSPARENT
X-MICROSOFT-CDO-ALLDAYEVENT:TRUE
SUMMARY:North American Ice Fishing Circuit Tournament
DESCRIPTION:Join in for the North American ice Fishing Circuit Tournament in La Porte from February 9-11 on Pine & Stone Lakes in La Porte.\n\n\n\nThere will be $14\,000 total in pay-out. $5\,900 for 1st place\, $2\,200 for 2nd place\, $1\,000 for 3rd place\, $700 for 4th place\, $400 for 5th place\, $310 for 6-10th place\, $250 for 11-15th place\, and $200 for 16-20th place (pay-out based on 100 teams).\n\n\n\nThere will also be free prizes\, a free seminar\, a free kids ice camp\, and attendees can watch the weigh-in on Sunday.\n\n\n\nThis is the 2018 NAIFC National Championship Qualifier with open registration and 1 or 2 person teams. Team entry costs $200. Register at www.naifc.com or call 612.308.4858.\n\n\n\nAlso join in for the Maple City Ice Fishing Classic on Saturday\, February 10. The contest will be for a cash prize for 1st place by length in 6 categories: Pike\, Bass\, Bluegill/Red Ear\, Crappie\, Perch\, and Walleye. The first prize is 50% of the registration purse and 50% will go to support Friends of Fishing's Take a Kid Fishing events. Every fisherman is automatically registered to win a gas auger valued up to $300 and donated by Visit Michigan City La Pote. Registration will e at Cummings Lodge located on Stone Lake with a fee of $20 per fisherman. Once registered\, fisherman are free to begin fishing. Return with your catch by 12:00 p.m. For more information\, call 219.510.3193 or go to visitmichigancitylaporte.com
X-ALT-DESC;FMTTYPE=text/html:Join in for the North American ice Fishing Circuit Tournament in La Porte from February 9-11 on Pine &amp\; Stone Lakes in La Porte.<br />\n<br />\nThere will be $14\,000 total in pay-out. $5\,900 for 1st&nbsp\;place\, $2\,200 for 2nd place\, $1\,000 for 3rd place\, $700 for 4th place\, $400&nbsp\;for 5th place\, $310 for 6-10th place\, $250 for 11-15th place\, and $200 for 16-20th place (pay-out based on 100 teams).<br />\n<br />\nThere will also be free prizes\, a free seminar\, a free kids ice camp\, and attendees can watch the weigh-in on Sunday.<br />\n<br />\nThis is the 2018 NAIFC National Championship Qualifier with open registration and 1 or 2 person teams. Team entry costs $200. Register at www.naifc.com or call 612.308.4858.<br />\n<br />\nAlso join in for the Maple City Ice Fishing Classic on Saturday\, February 10. The contest will be for a cash prize for 1st place by length in 6 categories: Pike\, Bass\, Bluegill/Red Ear\, Crappie\, Perch\, and Walleye. The first prize is 50% of the registration purse and 50% will go to support Friends of Fishing&#39\;s Take a Kid Fishing events. Every fisherman is automatically registered to win a gas auger valued up to $300 and donated by Visit Michigan City La Pote. Registration will e at Cummings Lodge located on Stone Lake with a fee of $20 per fisherman. Once registered\, fisherman are free to begin fishing. Return with your catch by 12:00 p.m. For more information\, call 219.510.3193 or go to visitmichigancitylaporte.com
LOCATION:La Porte's Lakes
UID:e.1949.3039
SEQUENCE:3
DTSTAMP:20260424T155307Z
URL:https://members.laportepartnership.com/events/details/north-american-ice-fishing-circuit-tournament-3039
END:VEVENT

END:VCALENDAR
