BEGIN:VCALENDAR
VERSION:2.0
PRODID:-//ChamberMaster//Event Calendar 2.0//EN
METHOD:PUBLISH
X-PUBLISHED-TTL:P3D
REFRESH-INTERVAL:P3D
CALSCALE:GREGORIAN
BEGIN:VEVENT
DTSTART:20171025T210000Z
DTEND:20171025T213000Z
X-MICROSOFT-CDO-ALLDAYEVENT:FALSE
SUMMARY:Northwest Indiana Online Auctions Ribbon Cutting
DESCRIPTION:Northwest Indiana Online Auctions will hold a ribbon cutting on October 25 at 4:00 p.m. to celebrate their new location at 1201 Lake Street in La Porte. The location has been renovated and the event will take place a few days before their next auction. The ribbon cutting will also be administered by the Greater La Porte Chamber of Commerce.\n\nNorthwest Indiana Online Auctions offers monthly auctions that take place entirely online. The warehouse allows customers to drop off items and also allows potential buyers the opportunity to see the items in person before bidding on them. The auctions generally have more than 600 lots to bid on.\n\nFor more information about Northwest Indiana Online Auctions\, visit their Facebook page\, call 219.851.9797\, or go to bid.nwioa.net. For more information about the Greater La Porte Chamber of Commerce\, visit www.lpchamber.com\, like their Facebook page\, or call 219.362.3178.
X-ALT-DESC;FMTTYPE=text/html:<span style="font-family:georgia\,serif\;"><span style="font-size:12.0pt\;">Northwest Indiana Online Auctions will hold a ribbon cutting on October 25 at 4:00 p.m. to celebrate their new location at 1201 Lake Street in La Porte. The location has been renovated and the event will take place a few days before their next auction. The ribbon cutting will also be administered by the Greater La Porte Chamber of Commerce.</span></span><br />\n<span style="font-family:georgia\,serif\;"><span style="font-size:12.0pt\;">Northwest Indiana Online Auctions offers monthly auctions that take place entirely online. The warehouse allows customers to drop off items and also allows potential buyers the opportunity to see the items in person before bidding on them. The auctions generally have more than 600 lots to bid on.</span></span><br />\n<span style="font-family:georgia\,serif\;"><span style="font-size:12.0pt\;">For more information about Northwest Indiana Online Auctions\, visit their Facebook page\, call 219.851.9797\, or go to bid.nwioa.net. For more information about the Greater La Porte Chamber of Commerce\, visit www.lpchamber.com\, like their Facebook page\, or call 219.362.3178.</span></span>
LOCATION:Northwest Indiana Online Auctions 1201 Lake Street La Porte
UID:e.1949.2900
SEQUENCE:3
DTSTAMP:20260424T230554Z
URL:https://members.laportepartnership.com/events/details/northwest-indiana-online-auctions-ribbon-cutting-2900
END:VEVENT

END:VCALENDAR
