BEGIN:VCALENDAR
VERSION:2.0
PRODID:-//ChamberMaster//Event Calendar 2.0//EN
METHOD:PUBLISH
X-PUBLISHED-TTL:P3D
REFRESH-INTERVAL:P3D
CALSCALE:GREGORIAN
BEGIN:VEVENT
DTSTART:20180530T140000Z
DTEND:20180530T150000Z
X-MICROSOFT-CDO-ALLDAYEVENT:FALSE
SUMMARY:Northwest Indiana SCORE Workshop Power of the Inbox!
DESCRIPTION:Email\, Email\, Email\n\nEvery business needs email marketing\, but how do you get them opened? Well\, in this workshop you will learn:\n\n	How to get your email opened\n	How to ensure the reader takes action\n	More Tips & Tricks\n\nStephanie Walters from Blue Top Marketing will reveal why regular email doesn't work and how to email can add to your bottom line.\n\n \n\nStephanie will also have copies for sale of her book 6-Figure Marketing Blueprint (8 Proven Tactics Small Business Owners Can Use to Generate up to $200K in Under 2 Years!). \n\nBut wait\, there's more:\n\n\n	9:00am Presentation\n	10:00am Q&A and Networking\n	There is no cost for the workshop.  \n	Coffee will be served.  \n	Each attendee will receive a copy of the slide presentation.  \n\nLimited seating is available and registrations are required.  To register\, go to www.northwestindiana.score.org and click Take a Workshop in the Local Workshops section.
X-ALT-DESC;FMTTYPE=text/html:<span style="font-family:arial\,sans-serif\;"><span style="font-size:10pt\;">Email\, Email\, Email</span></span><br />\n<span style="font-family:arial\,sans-serif\;"><span style="font-size:10pt\;">Every business needs email marketing\, but how do you get them opened? Well\, in this workshop you will learn:</span></span>\n<ul>\n	<li style="line-height:normal\;background-image:initial\;background-position:initial\;background-size:initial\;background-repeat:initial\;background-attachment:initial\;background-origin:initial\;background-clip:initial\;"><span style="font-family:arial\,sans-serif\;"><span style="font-size:10.0pt\;">How to get your email opened</span></span></li>\n	<li style="line-height:normal\;background-image:initial\;background-position:initial\;background-size:initial\;background-repeat:initial\;background-attachment:initial\;background-origin:initial\;background-clip:initial\;"><span style="font-family:arial\,sans-serif\;"><span style="font-size:10.0pt\;">How to ensure the reader takes action</span></span></li>\n	<li style="line-height:normal\;background-image:initial\;background-position:initial\;background-size:initial\;background-repeat:initial\;background-attachment:initial\;background-origin:initial\;background-clip:initial\;"><span style="font-family:arial\,sans-serif\;"><span style="font-size:10.0pt\;">More Tips &amp\; Tricks</span></span></li>\n</ul>\n<span style="font-family:arial\,sans-serif\;"><span style="font-size:10pt\;">Stephanie Walters from Blue Top Marketing will reveal why regular email doesn&#39\;t work and how to email can add to your bottom line.<br />\n&nbsp\;</span></span><br />\n<span style="font-family:arial\,sans-serif\;"><span style="font-size:10pt\;">Stephanie will also have copies for sale of her book 6-Figure Marketing Blueprint (8 Proven Tactics Small Business Owners Can Use to Generate up to $200K in Under 2 Years!).&nbsp\;</span></span><br />\n<span style="font-family:arial\,sans-serif\;"><span style="font-size:10pt\;">But wait\, there&#39\;s more:</span></span>\n\n<ul>\n	<li style="line-height:normal\;background-image:initial\;background-position:initial\;background-size:initial\;background-repeat:initial\;background-attachment:initial\;background-origin:initial\;background-clip:initial\;"><span style="font-family:arial\,sans-serif\;"><span style="font-size:10.0pt\;">9:00am Presentation</span></span></li>\n	<li style="line-height:normal\;background-image:initial\;background-position:initial\;background-size:initial\;background-repeat:initial\;background-attachment:initial\;background-origin:initial\;background-clip:initial\;"><span style="font-family:arial\,sans-serif\;"><span style="font-size:10.0pt\;">10:00am Q&amp\;A and Networking</span></span></li>\n	<li style="line-height:normal\;background-image:initial\;background-position:initial\;background-size:initial\;background-repeat:initial\;background-attachment:initial\;background-origin:initial\;background-clip:initial\;"><span style="font-family:arial\,sans-serif\;"><span style="font-size:10.0pt\;">There is no cost for the workshop. &nbsp\;</span></span></li>\n	<li style="line-height:normal\;background-image:initial\;background-position:initial\;background-size:initial\;background-repeat:initial\;background-attachment:initial\;background-origin:initial\;background-clip:initial\;"><span style="font-family:arial\,sans-serif\;"><span style="font-size:10.0pt\;">Coffee will be served.&nbsp\;&nbsp\;</span></span></li>\n	<li style="line-height:normal\;background-image:initial\;background-position:initial\;background-size:initial\;background-repeat:initial\;background-attachment:initial\;background-origin:initial\;background-clip:initial\;"><span style="font-family:arial\,sans-serif\;"><span style="font-size:10.0pt\;">Each attendee will receive a copy of the slide presentation.&nbsp\;&nbsp\;</span></span></li>\n</ul>\n<span style="font-family:arial\,sans-serif\;"><span style="font-size:10pt\;">Limited seating is available and registrations are required.&nbsp\; </span></span><span style="color:#003A4A\;"><span style="font-family:arial\,sans-serif\;"><span style="font-size:9.0pt\;">To register\, go to </span></span></span><span style="font-family:calibri\,sans-serif\;"><span style="font-size:11.0pt\;"><a href="http://www.northwestindiana.score.org/"><span style="font-family:arial\,sans-serif\;"><span style="font-size:9.0pt\;">www.northwestindiana.score.org</span></span></a></span></span><span style="color:#003A4A\;"><span style="font-family:arial\,sans-serif\;"><span style="font-size:9.0pt\;"> and click Take a Workshop in the Local Workshops section.</span></span></span>
LOCATION:Greater Valparaiso Chamber of Commerce 162 W Lincolnway Valparaiso\, IN 46383
UID:e.1949.4145
SEQUENCE:3
DTSTAMP:20260424T103735Z
URL:https://members.laportepartnership.com/events/details/northwest-indiana-score-workshop-power-of-the-inbox-4145
END:VEVENT

END:VCALENDAR
