BEGIN:VCALENDAR
VERSION:2.0
PRODID:-//ChamberMaster//Event Calendar 2.0//EN
METHOD:PUBLISH
X-PUBLISHED-TTL:P3D
REFRESH-INTERVAL:P3D
CALSCALE:GREGORIAN
BEGIN:VEVENT
DTSTART:20160803T133000Z
DTEND:20160803T150000Z
X-MICROSOFT-CDO-ALLDAYEVENT:FALSE
SUMMARY:Northwest Indiana World Trade Alliance- What is TPP?
DESCRIPTION:Northwest Indiana World Trade Alliance presents an exclusive event! What is TPP (Trans Pacific Partnership)?\n\n\n\nLive from D.C. a video conference with U.S. Department of Commerce specialist on TPP. Follow up with Mark Cooper\, Director\, Indianapolis\, U.S. Department of Commerce and Andrew Reinke\, President of Foreign Targers\, Inc.\n\n\n\nTPP writes the rules for global trade. A product of 7 years of negotiations between 12 independent nations. The final deal is undoubtedly complex.\n\n\n\nWednesday\, August 3rd\, 2016\n\nCommercialization & Manufacturing Excellence Center\n\nPurdue University Northwest\n\n7150 Indianapolis Boulevard\, Hammond\, IN\n\n8:30 a.m. networking & refreshments\n\n9:00 a.m.-10:00 a.m. program\n\n\n\nPlease RSVP by August 1st\n\nPhone: 219-252-2031\n\nEmail: info@nwiworldtradealliance.org\n\nwww.nwiworldtradealliance.org\n\n\n\nNo charge! Limited seating!
X-ALT-DESC;FMTTYPE=text/html:Northwest Indiana World Trade Alliance presents an exclusive event! What is TPP (Trans Pacific Partnership)?<br />\n<br />\nLive from D.C. a video conference with U.S. Department of Commerce specialist on TPP. Follow up with Mark Cooper\, Director\, Indianapolis\, U.S. Department of Commerce and Andrew Reinke\, President of Foreign Targers\, Inc.<br />\n<br />\nTPP writes the rules for global trade. A product of 7 years of negotiations between 12 independent nations. The final deal is undoubtedly complex.<br />\n<br />\nWednesday\, August 3rd\, 2016<br />\nCommercialization &amp\; Manufacturing Excellence Center<br />\nPurdue University Northwest<br />\n7150 Indianapolis Boulevard\, Hammond\, IN<br />\n8:30 a.m. networking &amp\; refreshments<br />\n9:00 a.m.-10:00 a.m. program<br />\n<br />\nPlease RSVP by August 1st<br />\nPhone: 219-252-2031<br />\nEmail: info@nwiworldtradealliance.org<br />\nwww.nwiworldtradealliance.org<br />\n<br />\nNo charge! Limited seating!
LOCATION:Commercialization & Manufacturing Excellence Center Purdue University Northwest 7150 Indianapolis Boulevard Hammond\, IN
UID:e.1949.2601
SEQUENCE:3
DTSTAMP:20260426T010151Z
URL:https://members.laportepartnership.com/events/details/northwest-indiana-world-trade-alliance-what-is-tpp-08-03-2016-2601
END:VEVENT

END:VCALENDAR
