BEGIN:VCALENDAR
VERSION:2.0
PRODID:-//ChamberMaster//Event Calendar 2.0//EN
METHOD:PUBLISH
X-PUBLISHED-TTL:P3D
REFRESH-INTERVAL:P3D
CALSCALE:GREGORIAN
BEGIN:VEVENT
DTSTART:20161117T233000Z
DTEND:20161118T010000Z
X-MICROSOFT-CDO-ALLDAYEVENT:FALSE
SUMMARY:November Idea and Information Exchange- La Porte County CVB
DESCRIPTION:Hosted by\n\nLaPorte County Convention & Visitors Bureau\n\nAnd\n\nWestville Chamber of Commerce\n\nHeld at\n\nHorizon Bank\n\n1 Parkman Drive\n\nWestville\, IN 46391\n\nThursday\, November 17\, 2016 at 5:30 PM\n\nThe Idea & Information Exchange forum was created for businesses and organizations to come together and share ideas and information.  As a result our partners have enjoyed financial benefits by cooperating with each other.\n\nWestville Chamber of Commerce will offer their members a networking opportunity\, a rolling PowerPoint with member logos and a welcome banner for members.  Members are encouraged to bring a guest. \n\nFood & soft drinks will be provided by "Sweet Lou\, That's Who".\n\nBring brochures\, sales coupons\, and sales flyers to put on our information table to share with others.\n\nGifts\, Gifts\, Gifts!\n\nWe love gifts for our door awards!\n\nIf you wish to donate something please bring it along.\n\nPlease Join Us!\n\nRSVP to Jane Daley by November 10\, 2016\n\n219-872-5055 \n\nE-mail - jane@michigancitylaporte.com \n\nOr Drew Buchanan- COC President\n\n219.921.3935\n\nE-mail - drewbuchanan@gmail.com
X-ALT-DESC;FMTTYPE=text/html:<span style="color:#6EBB9C\;"><span style="font-family:arial\,sans-serif\;"><span style="font-size:10.0pt\;">Hosted by</span></span></span><br />\n<span style="color:#6EBB9C\;"><span style="font-family:arial\,sans-serif\;"><span style="font-size:10.0pt\;">LaPorte County Convention &amp\; Visitors Bureau</span></span></span><br />\n<span style="color:#6EBB9C\;"><span style="font-family:arial\,sans-serif\;"><span style="font-size:10.0pt\;">And</span></span></span><br />\n<span style="color:#6EBB9C\;"><span style="font-family:arial\,sans-serif\;"><span style="font-size:10.0pt\;">Westville Chamber of Commerce</span></span></span><br />\n<span style="color:#6EBB9C\;"><span style="font-family:arial\,sans-serif\;"><span style="font-size:10.0pt\;">Held at</span></span></span><br />\n<span style="color:#6EBB9C\;"><span style="font-family:arial\,sans-serif\;"><span style="font-size:10.0pt\;">Horizon Bank</span></span></span><br />\n<span style="color:#6EBB9C\;"><span style="font-family:arial\,sans-serif\;"><span style="font-size:10.0pt\;">1 Parkman Drive</span></span></span><br />\n<span style="color:#6EBB9C\;"><span style="font-family:arial\,sans-serif\;"><span style="font-size:10.0pt\;">Westville\, IN 46391</span></span></span><br />\n<span style="color:#6EBB9C\;"><span style="font-family:arial\,sans-serif\;"><span style="font-size:10.0pt\;">Thursday\, November 17\, 2016 at 5:30 PM</span></span></span><br />\n<span style="color:#6EBB9C\;"><span style="font-family:arial\,sans-serif\;"><span style="font-size:10.0pt\;">The Idea &amp\; Information Exchange forum was created for businesses and organizations to come together and share ideas and information.&nbsp\; As a result our partners have enjoyed financial benefits by cooperating with each other.</span></span></span><br />\n<span style="color:#6EBB9C\;"><span style="font-family:arial\,sans-serif\;"><span style="font-size:10.0pt\;">Westville Chamber of Commerce will offer their members a networking opportunity\, a rolling PowerPoint with member logos and a welcome banner for members.&nbsp\; Members are encouraged to bring a guest.&nbsp\;</span></span></span><br />\n<span style="color:#6EBB9C\;"><span style="font-family:arial\,sans-serif\;"><span style="font-size:10.0pt\;">Food &amp\; soft drinks will be provided by &quot\;Sweet Lou\, That&#39\;s Who&quot\;.</span></span></span><br />\n<span style="color:#6EBB9C\;"><span style="font-family:arial\,sans-serif\;"><span style="font-size:10.0pt\;">Bring brochures\, sales coupons\, and sales flyers to put on our information table to share with others.</span></span></span><br />\n<span style="color:#6EBB9C\;"><span style="font-family:arial\,sans-serif\;"><span style="font-size:10.0pt\;">Gifts\, Gifts\, Gifts!</span></span></span><br />\n<span style="color:#6EBB9C\;"><span style="font-family:arial\,sans-serif\;"><span style="font-size:10.0pt\;">We love gifts for our door awards!</span></span></span><br />\n<span style="color:#6EBB9C\;"><span style="font-family:arial\,sans-serif\;"><span style="font-size:10.0pt\;">If you wish to donate something please bring it along.</span></span></span><br />\n<span style="color:#6EBB9C\;"><span style="font-family:arial\,sans-serif\;"><span style="font-size:10.0pt\;">Please Join Us!</span></span></span><br />\n<span style="color:#6EBB9C\;"><span style="font-family:arial\,sans-serif\;"><span style="font-size:10.0pt\;">RSVP to Jane Daley by November 10\, 2016</span></span></span><br />\n<span style="color:#6EBB9C\;"><span style="font-family:arial\,sans-serif\;"><span style="font-size:10.0pt\;">219-872-5055 </span></span></span><br />\n<span style="color:#6EBB9C\;"><span style="font-family:arial\,sans-serif\;"><span style="font-size:10.0pt\;">E-mail - <a href="mailto:jane@michigancitylaporte.com" shape="rect">jane@michigancitylaporte.com</a> </span></span></span><br />\n<span style="color:#6EBB9C\;"><span style="font-family:arial\,sans-serif\;"><span style="font-size:10.0pt\;">Or Drew Buchanan- COC President</span></span></span><br />\n<span style="color:#6EBB9C\;"><span style="font-family:arial\,sans-serif\;"><span style="font-size:10.0pt\;">219.921.3935</span></span></span><br />\n<span style="color:#6EBB9C\;"><span style="font-family:arial\,sans-serif\;"><span style="font-size:10.0pt\;">E-mail - <a href="mailto:drewbuchanan@gmail.com">drewbuchanan@gmail.com</a></span></span></span>
LOCATION:Horizon Bank 1 Parkman Drive Westville
UID:e.1949.2671
SEQUENCE:3
DTSTAMP:20260425T204258Z
URL:https://members.laportepartnership.com/events/details/november-idea-and-information-exchange-la-porte-county-cvb-2671
END:VEVENT

END:VCALENDAR
