BEGIN:VCALENDAR
VERSION:2.0
PRODID:-//ChamberMaster//Event Calendar 2.0//EN
METHOD:PUBLISH
X-PUBLISHED-TTL:P3D
REFRESH-INTERVAL:P3D
CALSCALE:GREGORIAN
BEGIN:VEVENT
DTSTART:20160622T130000Z
DTEND:20160622T230000Z
X-MICROSOFT-CDO-ALLDAYEVENT:FALSE
SUMMARY:NWI Open Coworking Day
DESCRIPTION:As part of Indiana Entrepreneurship Week\, Open Door Coworking and Zoseco Coworking are opening up to EVERYONE! If you want to come check out the place\, grab a desk\, have some coffee\, or just say hello\, you're welcome to come in for FREE for the day!\n\n\n\nJoin us at\n\nOpen Door Coworking in La Porte at 1705 State St\, Building A
X-ALT-DESC;FMTTYPE=text/html:<span style="color:rgb(75\, 79\, 86)\; font-family:helvetica\,arial\,sans-serif\; font-size:14px">As part of Indiana Entrepreneurship Week\, Open Door Coworking and Zoseco Coworking are opening up to EVERYONE! If you want to come check out the place\, grab a desk\, have some coffee\, or just say hello\, you&#39\;re welcome to come in for FREE for the day!</span><br />\n<br />\n<span style="color:rgb(75\, 79\, 86)\; font-family:helvetica\,arial\,sans-serif\; font-size:14px">Join us at</span><br />\n<span style="color:rgb(75\, 79\, 86)\; font-family:helvetica\,arial\,sans-serif\; font-size:14px">Open Door Coworking in La Porte at 1705 State St\, Building A&nbsp\;</span><br />\n&nbsp\;
LOCATION:Open Door Coworking in La Porte at 1705 State St\, Building A
UID:e.1949.2577
SEQUENCE:3
DTSTAMP:20260426T033940Z
URL:https://members.laportepartnership.com/events/details/nwi-open-coworking-day-06-22-2016-2577
END:VEVENT

END:VCALENDAR
