BEGIN:VCALENDAR
VERSION:2.0
PRODID:-//ChamberMaster//Event Calendar 2.0//EN
METHOD:PUBLISH
X-PUBLISHED-TTL:P3D
REFRESH-INTERVAL:P3D
CALSCALE:GREGORIAN
BEGIN:VEVENT
DTSTART:20161204T210000Z
DTEND:20161204T220000Z
X-MICROSOFT-CDO-ALLDAYEVENT:FALSE
SUMMARY:O Night Divine - Christmas Cantata
DESCRIPTION:A FREE Christmas cantata for the whole family and community\, reaching out and lifting hearts to be filled with the love of Jesus! refreshments and fellowship afterwards. Bring everybody!
X-ALT-DESC;FMTTYPE=text/html:A FREE Christmas cantata for the whole family and community\, reaching out and lifting hearts to be filled with the love of Jesus! refreshments and fellowship afterwards. Bring everybody!
LOCATION:La Porte\, Indiana Salvation Army 3240 Monroe Street\, La Porte\, Indiana
UID:e.1949.2677
SEQUENCE:3
DTSTAMP:20260425T170934Z
URL:https://members.laportepartnership.com/events/details/o-night-divine-christmas-cantata-2677
END:VEVENT

END:VCALENDAR
