BEGIN:VCALENDAR
VERSION:2.0
PRODID:-//ChamberMaster//Event Calendar 2.0//EN
METHOD:PUBLISH
X-PUBLISHED-TTL:P3D
REFRESH-INTERVAL:P3D
CALSCALE:GREGORIAN
BEGIN:VEVENT
DTSTART:20180822T200000Z
DTEND:20180822T223000Z
X-MICROSOFT-CDO-ALLDAYEVENT:FALSE
SUMMARY:Oak Woods Manor Ribbon Cutting & Open House
DESCRIPTION:
X-ALT-DESC;FMTTYPE=text/html:
LOCATION:Oak Woods Manor 1211 Longwood Drive La Porte
UID:e.1949.4222
SEQUENCE:3
DTSTAMP:20260424T071046Z
URL:https://members.laportepartnership.com/events/details/oak-woods-manor-ribbon-cutting-open-house-4222
END:VEVENT

END:VCALENDAR
