BEGIN:VCALENDAR
VERSION:2.0
PRODID:-//ChamberMaster//Event Calendar 2.0//EN
METHOD:PUBLISH
X-PUBLISHED-TTL:P3D
REFRESH-INTERVAL:P3D
CALSCALE:GREGORIAN
BEGIN:VEVENT
DTSTART:20161020T130000Z
DTEND:20161020T140000Z
X-MICROSOFT-CDO-ALLDAYEVENT:FALSE
SUMMARY:October Idea & Information Exchange
DESCRIPTION:Hosted by\n\nLaPorte County Convention & Visitors Bureau\n\nAnd\n\nPurdue University North West\n\nJames Dworkin Student Services & Activities Complex\n\n1401 S US Hwy 421\n\nWestville\, IN 46391\n\nThursday\, October 20\, 2016 8:00 am\n\n \n\nEveryone can park right in front! The DSSAC is at the south end of the campus turn into the campus at the stop light.  It is visible from the Highway.\n\nDon't miss the chance to see this complex - it's gorgeous!!\n\nBreakfast treats and coffee will be served\, of course.\n\n \n\nStaff will be on hand with their reports and\, of course we look forward to hearing\n\nall about what is new with your business or organization. Bring brochures\, sales coupons\, and sales flyers to put on our information table to share with others.\n\n \n\nGifts\, Gifts\, Gifts!\n\nWe love gifts for our door awards!\n\nIf you wish to donate something please bring it along.\n\nPlease Join Us!\n\nRSVP to Jane Daley by October 17\, 2016\n\n219-872-5055\n\nE-mail - jane@michigancitylaporte.com
X-ALT-DESC;FMTTYPE=text/html:<span style="color:#007DA1\;"><span style="font-family:arial\,sans-serif\;"><span style="font-size:10.0pt\;">Hosted by</span></span></span><br />\n<span style="color:#007DA1\;"><span style="font-family:arial\,sans-serif\;"><span style="font-size:10.0pt\;">LaPorte County Convention &amp\; Visitors Bureau</span></span></span><br />\n<span style="color:#007DA1\;"><span style="font-family:arial\,sans-serif\;"><span style="font-size:10.0pt\;">And</span></span></span><br />\n<span style="color:#007DA1\;"><span style="font-family:arial\,sans-serif\;"><span style="font-size:10.0pt\;">Purdue University North West</span></span></span><br />\n<span style="color:#007DA1\;"><span style="font-family:arial\,sans-serif\;"><span style="font-size:10.0pt\;">James Dworkin Student Services &amp\; Activities Complex</span></span></span><br />\n<span style="color:#007DA1\;"><span style="font-family:arial\,sans-serif\;"><span style="font-size:10.0pt\;">1401 S US Hwy 421</span></span></span><br />\n<span style="color:#007DA1\;"><span style="font-family:arial\,sans-serif\;"><span style="font-size:10.0pt\;">Westville\, IN 46391</span></span></span><br />\n<span style="color:#007DA1\;"><span style="font-family:arial\,sans-serif\;"><span style="font-size:10.0pt\;">Thursday\, October 20\, 2016 8:00 am</span></span></span><br />\n&nbsp\;<br />\n<span style="color:#007DA1\;"><span style="font-family:arial\,sans-serif\;"><span style="font-size:10.0pt\;">Everyone can park right in front! The DSSAC is at the south end of the campus turn into the campus at the stop light.&nbsp\; It is visible from the Highway.</span></span></span><br />\n<span style="color:#007DA1\;"><span style="font-family:arial\,sans-serif\;"><span style="font-size:10.0pt\;">Don&#39\;t miss the chance to see this complex - it&#39\;s gorgeous!!</span></span></span><br />\n<span style="color:#007DA1\;"><span style="font-family:arial\,sans-serif\;"><span style="font-size:10.0pt\;">Breakfast treats and coffee will be served\, of course.</span></span></span><br />\n&nbsp\;<br />\n<span style="color:#007DA1\;"><span style="font-family:arial\,sans-serif\;"><span style="font-size:10.0pt\;">Staff will be on hand with their reports and\, of course we look forward to hearing</span></span></span><br />\n<span style="color:#007DA1\;"><span style="font-family:arial\,sans-serif\;"><span style="font-size:10.0pt\;">all about what is new with your business or organization. Bring brochures\, sales coupons\, and sales flyers to put on our information table to share with others.</span></span></span><br />\n&nbsp\;<br />\n<span style="color:#007DA1\;"><span style="font-family:arial\,sans-serif\;"><span style="font-size:10.0pt\;">Gifts\, Gifts\, Gifts!</span></span></span><br />\n<span style="color:#007DA1\;"><span style="font-family:arial\,sans-serif\;"><span style="font-size:10.0pt\;">We love gifts for our door awards!</span></span></span><br />\n<span style="color:#007DA1\;"><span style="font-family:arial\,sans-serif\;"><span style="font-size:10.0pt\;">If you wish to donate something please bring it along.</span></span></span><br />\n<span style="color:#007DA1\;"><span style="font-family:arial\,sans-serif\;"><span style="font-size:10.0pt\;">Please Join Us!</span></span></span><br />\n<span style="color:#007DA1\;"><span style="font-family:arial\,sans-serif\;"><span style="font-size:10.0pt\;">RSVP to Jane Daley by October 17\, 2016</span></span></span><br />\n<span style="color:#007DA1\;"><span style="font-family:arial\,sans-serif\;"><span style="font-size:10.0pt\;">219-872-5055</span></span></span><br />\n<span style="color:#007DA1\;"><span style="font-family:arial\,sans-serif\;"><span style="font-size:10.0pt\;">E-mail -&nbsp\;<a href="mailto:jane@michigancitylaporte.com">jane@michigancitylaporte.com</a></span></span></span>
LOCATION:Dworkin Student Services & Activities Complex 1401 S. US Highway 421 Westville
UID:e.1949.2641
SEQUENCE:3
DTSTAMP:20260425T204019Z
URL:https://members.laportepartnership.com/events/details/october-idea-information-exchange-2641
END:VEVENT

END:VCALENDAR
