BEGIN:VCALENDAR
VERSION:2.0
PRODID:-//ChamberMaster//Event Calendar 2.0//EN
METHOD:PUBLISH
X-PUBLISHED-TTL:P3D
REFRESH-INTERVAL:P3D
CALSCALE:GREGORIAN
BEGIN:VEVENT
DTSTART:20180613T135000Z
DTEND:20180614T020000Z
X-MICROSOFT-CDO-ALLDAYEVENT:FALSE
SUMMARY:Ollie's Bargain Outlet Ribbon Cutting & Grand Opening
DESCRIPTION:
X-ALT-DESC;FMTTYPE=text/html:
LOCATION:Ollie's Bargain Outlet 69 1/2 Pine Lake Avenue La Porte
UID:e.1949.4169
SEQUENCE:3
DTSTAMP:20260424T090426Z
URL:https://members.laportepartnership.com/events/details/ollie-s-bargain-outlet-ribbon-cutting-grand-opening-4169
END:VEVENT

END:VCALENDAR
