BEGIN:VCALENDAR
VERSION:2.0
PRODID:-//ChamberMaster//Event Calendar 2.0//EN
METHOD:PUBLISH
X-PUBLISHED-TTL:P3D
REFRESH-INTERVAL:P3D
CALSCALE:GREGORIAN
BEGIN:VEVENT
DTSTART:20170830T140000Z
DTEND:20170831T030000Z
X-MICROSOFT-CDO-ALLDAYEVENT:FALSE
SUMMARY:Online Presence & Online Marketing
DESCRIPTION:Worried about getting found by local customers\, want to be found everywhere on all devices\, want to know how to be found with online advertising\, want to learn how to measure your online success?  \n\nIf the answer is yes to any of the above\, we invite you to attend our August monthly educational seminar for current and prospective business owners.  This is a one hour information-packed workshop and you will leave understanding how to use Google My Business\, how to optimize your website for search and mobile devices\, how to advertise your products/services on Google\, and how to grow your business using Google Analytics. Seth Spencer of SERA Solutions\, a SCORE client\, will teach you how to make sense of it all. \n\nThe workshop will be held on August 30th at 9am at the Valparaiso Chamber of Commerce at 162 Lincolnway in Valparaiso.  There is no charge for this workshop and attendees will receive a copy of the slide presentation. Coffee will be served.\n\nLimited seating is available and registrations are required.    To register online\, go to northwestindiana.score.org.     Register today\, space is limited for this free workshop.
X-ALT-DESC;FMTTYPE=text/html:<span style="font-size:12.0pt\;">Worried about getting found by local customers\, want to be found everywhere on all devices\, want to know how to be found with online advertising\, want to learn how to measure your online success?&nbsp\;&nbsp\;</span><br />\n<span style="font-size:12.0pt\;">If the answer is yes to any of the above\,&nbsp\;we invite you to attend our&nbsp\;August monthly educational seminar for&nbsp\;current and prospective&nbsp\;business owners.&nbsp\;&nbsp\;This is a one hour information-packed workshop and you will leave understanding how to use Google My Business\, how to optimize your website for search and mobile devices\, how to advertise your products/services on Google\, and how to grow your business using Google Analytics. Seth Spencer of SERA Solutions\, a SCORE client\, will teach you how to make sense of it all.&nbsp\;</span><br />\n<span style="font-size:12.0pt\;">The workshop will be held on August 30<sup>th</sup> at 9am at the Valparaiso Chamber of Commerce at 162 Lincolnway in Valparaiso.&nbsp\; There is no charge for this workshop and attendees will receive a copy of the slide presentation. Coffee will be served.</span><br />\n<span style="font-size:12.0pt\;">Limited seating is available and registrations are required.&nbsp\; </span><span style="font-size:12.0pt\;">&nbsp\;&nbsp\;To register online\, go to northwestindiana.score.org.&nbsp\;&nbsp\; &nbsp\;&nbsp\;Register today\, space is limited for this free workshop.</span>
LOCATION:Valparaiso Chamber of Commerce 162 Lincolnway\, Valparaiso
UID:e.1949.2861
SEQUENCE:3
DTSTAMP:20260425T021933Z
URL:https://members.laportepartnership.com/events/details/online-presence-online-marketing-2861
END:VEVENT

END:VCALENDAR
