BEGIN:VCALENDAR
VERSION:2.0
PRODID:-//ChamberMaster//Event Calendar 2.0//EN
METHOD:PUBLISH
X-PUBLISHED-TTL:P3D
REFRESH-INTERVAL:P3D
CALSCALE:GREGORIAN
BEGIN:VEVENT
DTSTART:20170812T180000Z
DTEND:20170812T200000Z
X-MICROSOFT-CDO-ALLDAYEVENT:FALSE
SUMMARY:Painting Party- La Porte County Historical Society Museum
DESCRIPTION:It's time once again to try your hand at creating a masterpiece at the La Porte County Historical Society Museum's "Painting Party." On Saturday\, August 12th starting at 1 P.M.\, Artist Dori Huber will be giving step-by-step instructions for creating a painting inspired by a quilt created by prominent quilter\, Ruth Johnson. This is in conjunction with the current display\, "A Cozy Cover-up: A Look at La Porte County Quilts". All supplies will be provided\, including brushes\, canvas\, and paints. At the end of the afternoon\, you will be the proud owner of a fabulous piece of art you created yourself! Cost is $30.00 per person\, ($25.00 for Historical Society members)\, which includes admission to the museum\, as well as light refreshments. \n\n    PAID RESERVATIONS ARE A MUST! Call the museum at 219-324-6767 or email at info@laportecountyhistory.org to secure your spot. However\, payment must be made by August 10th. \n\n    Dori Huber holds a Bachelor of Arts Degree from Ohio State University and a Master of Education from Purdue University Northwest. She taught art in the South Central district for decades and continues to instruct students at PNW and the Lubeznik Center for the Arts. Many of her students have received state\, national and international recognition. \n\n The Museum is located at 2405 Indiana Avenue (US#35) at the south entrance to La Porte and is handicapped accessible. Normal hours are Tuesday through Saturday\, 10 A.M. to 4:30 P.M.
X-ALT-DESC;FMTTYPE=text/html:<span style="font-family:times new roman\,serif\;"><span style="font-size:14.0pt\;">It&rsquo\;s time once again to try your hand at creating a masterpiece at the La Porte County Historical Society Museum&rsquo\;s &ldquo\;Painting Party.&rdquo\; On Saturday\, August 12th starting at 1 P.M.\, Artist Dori Huber will be giving step-by-step instructions for creating a painting inspired by a quilt created by prominent quilter\, Ruth Johnson. This is in conjunction with the current display\, &ldquo\;A Cozy Cover-up: A Look at La Porte County Quilts&rdquo\;. All supplies will be provided\, including brushes\, canvas\, and paints. At the end of the afternoon\, you will be the proud owner of a fabulous piece of art you created yourself! Cost is $30.00 per person\, ($25.00 for Historical Society members)\, which includes admission to the museum\, as well as light refreshments. </span></span><br />\n<strong><span style="font-family:times new roman\,serif\;"><span style="font-size:14.0pt\;">&nbsp\;&nbsp\;&nbsp\; PAID RESERVATIONS ARE A MUST!</span></span></strong><span style="font-family:times new roman\,serif\;"><span style="font-size:14.0pt\;"> Call the museum at 219-324-6767 or email at </span></span><a href="mailto:info@laportecountyhistory.org"><span style="font-family:times new roman\,serif\;"><span style="font-size:14.0pt\;">info@laportecountyhistory.org</span></span></a><span style="font-family:times new roman\,serif\;"><span style="font-size:14.0pt\;"> to secure your spot. However\, payment must be made by August 10<sup>th</sup>. </span></span><br />\n&nbsp\;&nbsp\;&nbsp\; <span style="color:black\;"><span style="font-family:times new roman\,serif\;"><span style="font-size:14.0pt\;">Dori Huber holds a Bachelor of Arts Degree from Ohio State University and a Master of Education from Purdue University Northwest. She taught art in the South Central district for decades and continues to instruct students at PNW and the Lubeznik Center for the Arts. Many of her students have received state\, national and international recognition. </span></span></span><br />\n<span style="font-family:times new roman\,serif\;"><span style="font-size:14.0pt\;">&nbsp\;The Museum is located at 2405 Indiana Avenue (US#35) at the south entrance to La Porte and is handicapped accessible. Normal hours are Tuesday through Saturday\, 10 A.M. to 4:30 P.M.</span></span>
LOCATION:La Porte County Historical Society Museum 2405 Indiana Avenue\, La Porte
UID:e.1949.2854
SEQUENCE:3
DTSTAMP:20260425T042443Z
URL:https://members.laportepartnership.com/events/details/painting-party-la-porte-county-historical-society-museum-2854
END:VEVENT

END:VCALENDAR
