BEGIN:VCALENDAR
VERSION:2.0
PRODID:-//ChamberMaster//Event Calendar 2.0//EN
METHOD:PUBLISH
X-PUBLISHED-TTL:P3D
REFRESH-INTERVAL:P3D
CALSCALE:GREGORIAN
BEGIN:VEVENT
DTSTART:20181012T140000Z
DTEND:20181012T200000Z
X-MICROSOFT-CDO-ALLDAYEVENT:FALSE
SUMMARY:Paladin Hiring Fair
DESCRIPTION:Paladin\, Inc. will be conducting walk-in interviews at their corporate office (4315 E. Michigan Blvd.\, Michigan City) during the hours of 5pm-8pm. Paladin is looking to fill the following positions: Direct Support Professionals\, a Behavior Clinician\, and a Licensed Practical Nurse.
X-ALT-DESC;FMTTYPE=text/html:<span style="background-color:rgb(255\, 255\, 255)\; color:rgb(51\, 51\, 51)\; font-family:sans-serif\,arial\,verdana\,trebuchet ms\; font-size:13px">Paladin\, Inc. will be conducting walk-in interviews at their corporate office (4315 E. Michigan Blvd.\, Michigan City) during the hours of 5pm-8pm. Paladin is looking to fill the following positions: Direct Support Professionals\, a Behavior Clinician\, and a Licensed Practical Nurse.</span>
LOCATION:4315 E. Michigan Blvd.\, Michigan City\, IN 46360
UID:e.1949.4263
SEQUENCE:3
DTSTAMP:20260424T040039Z
URL:https://members.laportepartnership.com/events/details/paladin-hiring-fair-10-12-2018-4263
END:VEVENT

END:VCALENDAR
