BEGIN:VCALENDAR
VERSION:2.0
PRODID:-//ChamberMaster//Event Calendar 2.0//EN
METHOD:PUBLISH
X-PUBLISHED-TTL:P3D
REFRESH-INTERVAL:P3D
CALSCALE:GREGORIAN
BEGIN:VEVENT
DTSTART:20181011T220000Z
DTEND:20181012T010000Z
X-MICROSOFT-CDO-ALLDAYEVENT:FALSE
SUMMARY:Paladin Hiring Fair
DESCRIPTION:Paladin\, Inc. will be conducting walk-in interviews at their corporate office (4315 E. Michigan Blvd.\, Michigan City) during the hours of 5pm-8pm. Paladin is looking to fill the following positions: Direct Support Professionals\, a Behavior Clinician\, and a Licensed Practical Nurse.
X-ALT-DESC;FMTTYPE=text/html:Paladin\, Inc. will be conducting walk-in interviews at their corporate office (4315 E. Michigan Blvd.\, Michigan City) during the hours of 5pm-8pm. Paladin is looking to fill the following positions: Direct Support Professionals\, a Behavior Clinician\, and a Licensed Practical Nurse.
LOCATION:4315 E. Michigan Blvd.\, Michigan City\, IN 46360
UID:e.1949.4262
SEQUENCE:3
DTSTAMP:20260424T040745Z
URL:https://members.laportepartnership.com/events/details/paladin-hiring-fair-4262
END:VEVENT

END:VCALENDAR
