BEGIN:VCALENDAR
VERSION:2.0
PRODID:-//ChamberMaster//Event Calendar 2.0//EN
METHOD:PUBLISH
X-PUBLISHED-TTL:P3D
REFRESH-INTERVAL:P3D
CALSCALE:GREGORIAN
BEGIN:VEVENT
DTSTART:20180608T220000Z
DTEND:20180609T020000Z
X-MICROSOFT-CDO-ALLDAYEVENT:FALSE
SUMMARY:Paladin Talent Show
DESCRIPTION:Be bold and be heard at the Paladin Talent Show! The event will take place at Lakeview Christian Center 1704 County Line Road in Michigan City on June 8th from 5:00 p.m.-9:00 p.m.\n\n\n\nAdvance tickets are $4 or a single bundle (1 ticket\, 1 drink\, and 1 slicer of pizza) is $6. Price at the door is $5/ticket or a family pack is $20 for 5. Raffle tickets and food will also be available.\n\n\n\nThe Bundle option is available only as an advance purchase.  Online ticket sales only available through Wednesday\, June 6\, 2018.  Food and drink may be bought separately the night of the show. \n\n\n\nFor more information\, contact Lorrie at 219.874.4288\, ext. 302 or events@paladin.care.
X-ALT-DESC;FMTTYPE=text/html:Be bold and be heard at the Paladin Talent Show! The event will take place at Lakeview Christian Center 1704 County Line Road in Michigan City on June 8th from 5:00 p.m.-9:00 p.m.<br />\n<br />\nAdvance tickets are $4 or a single bundle (1 ticket\, 1 drink\, and 1 slicer of pizza) is $6. Price at the door is $5/ticket or a family pack is $20 for 5. Raffle tickets and food will also be available.<br />\n<br />\n<strong style="color: rgb(144\, 153\, 159)\; font-family: &quot\;Droid Serif&quot\;\; font-size: 15px\; text-align: center\;">The Bundle option is available only as an advance purchase.&nbsp\; Online ticket sales only available through Wednesday\, June 6\, 2018.&nbsp\; Food and drink may be bought separately the night of the show.&nbsp\;</strong><br />\n<br />\nFor more information\, contact Lorrie at 219.874.4288\, ext. 302 or events@paladin.care.
LOCATION:Lakeview Christian Center 1704 County Line Road Michigan City
UID:e.1949.4158
SEQUENCE:3
DTSTAMP:20260424T102030Z
URL:https://members.laportepartnership.com/events/details/paladin-talent-show-4158
END:VEVENT

END:VCALENDAR
