BEGIN:VCALENDAR
VERSION:2.0
PRODID:-//ChamberMaster//Event Calendar 2.0//EN
METHOD:PUBLISH
X-PUBLISHED-TTL:P3D
REFRESH-INTERVAL:P3D
CALSCALE:GREGORIAN
BEGIN:VEVENT
DTSTART:20160624T220000Z
DTEND:20160625T010000Z
X-MICROSOFT-CDO-ALLDAYEVENT:FALSE
SUMMARY:Parents and Friends and Michiana Resources Talent Show
DESCRIPTION:Parents and Friends\, Inc. & Michiana Resources\, Inc. are proud to announce our 2016 Talent Show. The Talent Show will include adults throughout La Porte County with developmental disablilites coming together to raise funds that they will use to give back to their community.They all have special talents and are excited to have an opportunity to share them with the public! The event will be hosted at Lakeview Christian Center. Refreshments and snacks are included in the $10 ticket price.\n\n\n\nTickets can be pre-purchased at Parents and Friends\, Inc.\, Michiana Resources\, Inc.\, and at Lakeview Christian Center. Adults: $10.00\, Children 12 and under: Free\n\n\n\nFor more information call Jeff Rupe at 219-324-0656 ext 1127\n\nor Cassandra Dunn at 219-874-4288 ext. 302.\n\n\n\nThis is a night full of fun and laughter while celebrating the wonderful attributes that the participants provide! We hope to see you all there!
X-ALT-DESC;FMTTYPE=text/html:<span class="_4n-j fsl">Parents and Friends\, Inc. &amp\; Michiana Resources\, Inc. are proud to announce our 2016 Talent Show. The Talent Show will include adults throughout La Porte County with developmental disablilites coming together to raise funds that they will use to give back to their community.They all have special talents and are excited to have an opportunity to share them with the public! The event will be hosted at Lakeview Christian Center. Refreshments and snacks are included in the $10 ticket price.<br />\n<br />\nTickets can be pre-purchased at Parents and Friends\, Inc.\, Michiana Resources\, Inc.\, and at Lakeview Christian Center. Adults: $10.00\, Children 12 and under: Free<br />\n<br />\nFor more information call Jeff Rupe at 219-324-0656 ext 1127<br />\nor Cassandra Dunn at 219-874-4288 ext. 302.<br />\n<br />\nThis is a night full of fun and laughter while celebrating the wonderful attributes that the participants provide! We hope to see you all there!</span>
LOCATION:Lakeview Christian Center 1704 County Line Road Michigan City
UID:e.1949.2565
SEQUENCE:3
DTSTAMP:20260426T040057Z
URL:https://members.laportepartnership.com/events/details/parents-and-friends-and-michiana-resources-talent-show-06-24-2016-2565
END:VEVENT

END:VCALENDAR
