BEGIN:VCALENDAR
VERSION:2.0
PRODID:-//ChamberMaster//Event Calendar 2.0//EN
METHOD:PUBLISH
X-PUBLISHED-TTL:P3D
REFRESH-INTERVAL:P3D
CALSCALE:GREGORIAN
BEGIN:VEVENT
DTSTART:20171201T143000Z
DTEND:20171201T160000Z
X-MICROSOFT-CDO-ALLDAYEVENT:FALSE
SUMMARY:Philanthropy Roundtalbe - Building a Board - A Tool Kit for Constructing a Highly Functioning Board
DESCRIPTION:The Philanthropy Roundtable This program is directed to NFP Leadership.\n\nDecember 01\, 2017\n\n\n\n\n\n\n?Topic: Building a Board - A Tool Kit for Constructing a Highly Functioning Board\n\n\n\nWe encourage anyone who currently has a board\, or serves on board to join us for an information\, free\, seminar to learn how your board can more effective. This is also a great opportunity for people who serve on a board learn how to be best performing board member you can be!\n\n\n\nTake time to come and learn with us while enjoying coffee and breakfast. This is a laid back seminar that will allow you to ask questions\, engage in informative conversations and network!\n\n\n\nPlease RSVP using the link.
X-ALT-DESC;FMTTYPE=text/html:<div>\n<p><strong><em><u>The Philanthropy Roundtable </u></em></strong><strong><em><u>This program is directed to NFP Leadership.</u></em></strong><br />\n<strong><em><u>December 01\, 2017</u></em></strong></p>\n</div>\n\n<div>\n<div>\n<div style="text-align: left\;">\n<div>\n<p>?Topic:&nbsp\;Building a Board - A Tool Kit for Constructing a Highly Functioning Board<br />\n<br />\nWe encourage anyone who currently has a board\, or serves on board to join us for an information\, free\, seminar to learn how your board can more effective. This is also a great opportunity for people who serve on a board learn how to be best performing board member you can be!<br />\n<br />\nTake time to come and learn with us while enjoying coffee and breakfast. This is a laid back seminar that will allow you to ask questions\, engage in informative conversations and network!<br />\n<br />\n<a href="http://purdue.qualtrics.com/jfe/form/SV_bDYc5LSQeC12yu9">Please RSVP using the link. </a></p>\n</div>\n</div>\n</div>\n</div>\n
LOCATION:South Shore Leadership Center 6100 Southport Road\, IN 46368 We are located in the same building as NWI Forum\, PNW and NIRPC. We are housed in the same room at PNW to the right when you walk in.
UID:e.1949.2941
SEQUENCE:3
DTSTAMP:20260424T193135Z
URL:https://members.laportepartnership.com/events/details/philanthropy-roundtalbe-building-a-board-a-tool-kit-for-construction-a-highly-functioning-board-2941
END:VEVENT

END:VCALENDAR
