BEGIN:VCALENDAR
VERSION:2.0
PRODID:-//ChamberMaster//Event Calendar 2.0//EN
METHOD:PUBLISH
X-PUBLISHED-TTL:P3D
REFRESH-INTERVAL:P3D
CALSCALE:GREGORIAN
BEGIN:VEVENT
DTSTART:20171128T183000Z
DTEND:20171128T190000Z
X-MICROSOFT-CDO-ALLDAYEVENT:FALSE
SUMMARY:Pinnacle Dermatology Ribbon Cutting
DESCRIPTION:Pinnacle Dermatology recently opened a new La Porte location at 307 West Johnson Road\, Suite C. To celebrate its arrival to the community\, the company will host a ribbon cutting on November 28 at 12:30 p.m. The event will be administered by the Greater La Porte Chamber of Commerce.\n\nWhen it comes to your appearance and the health of your skin\, insist on excellence. Pinnacle Dermatology provides the highest level of skin care delivered with a familiar\, down-to-earth approach. Established in 2004 under the solid partnership of board certified plastic surgeon Dr. Jose Rios and board certified dermatologist and trained Mohs Surgeon\, Dr. Paula Lapinski\, Pinnacle has grown into a multi-state practice with immediate future plans for expansion. \n\nFor more information about Pinnacle Dermatology\, visit www.pinnacleskin.com. For more information about the Greater La Porte Chamber of Commerce\, visit www.lpchamber.com\, like their Facebook page\, or call 219.362.3178.
X-ALT-DESC;FMTTYPE=text/html:<span style="font-family:georgia\,serif\;"><span style="font-size:12.0pt\;">Pinnacle Dermatology recently opened a new La Porte location at 307 West Johnson Road\, Suite C. To celebrate its arrival to the community\, the company will host a ribbon cutting on November 28 at 12:30 p.m. The event will be administered by the Greater La Porte Chamber of Commerce.</span></span><br />\n<span style="font-family:georgia\,serif\;"><span style="font-size:12.0pt\;">When it comes to your appearance and the health of your skin\, insist on excellence. Pinnacle Dermatology provides the highest level of skin care delivered with a familiar\, down-to-earth approach. Established in 2004 under the solid partnership of board certified plastic surgeon Dr. Jose Rios and board certified dermatologist and trained Mohs Surgeon\, Dr. Paula Lapinski\, Pinnacle has grown into a multi-state practice with immediate future plans for expansion. </span></span><br />\n<span style="font-family:georgia\,serif\;"><span style="font-size:12.0pt\;">For more information about Pinnacle Dermatology\, visit www.pinnacleskin.com. For more information about the Greater La Porte Chamber of Commerce\, visit www.lpchamber.com\, like their Facebook page\, or call 219.362.3178.</span></span>
LOCATION:Pinnacle Dermatology 307 W. Johnson Rd.\, Suite C
UID:e.1949.2914
SEQUENCE:3
DTSTAMP:20260424T225856Z
URL:https://members.laportepartnership.com/events/details/pinnacle-dermatology-ribbon-cutting-2914
END:VEVENT

END:VCALENDAR
