BEGIN:VCALENDAR
VERSION:2.0
PRODID:-//ChamberMaster//Event Calendar 2.0//EN
METHOD:PUBLISH
X-PUBLISHED-TTL:P3D
REFRESH-INTERVAL:P3D
CALSCALE:GREGORIAN
BEGIN:VEVENT
DTSTART:20180429T180000Z
DTEND:20180429T210000Z
X-MICROSOFT-CDO-ALLDAYEVENT:FALSE
SUMMARY:Pins for Prevention Bowling Bash- Dunebrook
DESCRIPTION:Join Dunebrook for their Pins for Prevention Bowling Bash on Sunday\, April 29 from 1:00 p.m.-4:00 p.m. The event will take place at City Lanes Bowling Center\, 1901 S. Woodland Avenue in Michigan City. Pay and check-in time is at 12:30 p.m. The cost is $20 per adult\, $10 per child 12 and under. Pricing includes 3 games of 9 pin\, no tap bowling\, shoe rental\, and a donation to Dunebrook\, Inc. Call 219.874.0007 or email sara@dunebrook.com for more information.
X-ALT-DESC;FMTTYPE=text/html:Join Dunebrook for their Pins for Prevention Bowling Bash on Sunday\, April 29 from 1:00 p.m.-4:00 p.m. The event will take place at City Lanes Bowling Center\, 1901 S. Woodland Avenue in Michigan City. Pay and check-in time is at 12:30 p.m. The cost is $20 per adult\, $10 per child 12 and under. Pricing includes 3 games of 9 pin\, no tap bowling\, shoe rental\, and a donation to Dunebrook\, Inc. Call 219.874.0007 or email sara@dunebrook.com for more information.
LOCATION:City Lanes Bowling Center 1901 S. Woodland Avenue Michigan City
UID:e.1949.4125
SEQUENCE:3
DTSTAMP:20260424T115241Z
URL:https://members.laportepartnership.com/events/details/pins-for-prevention-bowling-bash-dunebrook-4125
END:VEVENT

END:VCALENDAR
