BEGIN:VCALENDAR
VERSION:2.0
PRODID:-//ChamberMaster//Event Calendar 2.0//EN
METHOD:PUBLISH
X-PUBLISHED-TTL:P3D
REFRESH-INTERVAL:P3D
CALSCALE:GREGORIAN
BEGIN:VEVENT
DTSTART:20190915T160000Z
DTEND:20190915T220000Z
X-MICROSOFT-CDO-ALLDAYEVENT:FALSE
SUMMARY:Polish Fest
DESCRIPTION:Join us for a very popular day of Polish festivities! Experience Polish food\, music\, dancing and learn more about Polish Heritage. Tickets available at the door. Hosted by the Polish Heritage Festival Committee.
X-ALT-DESC;FMTTYPE=text/html:<p><span style="background-color:transparent\; color:rgb(0\, 0\, 0)\; font-family:times new roman\; font-size:12pt">Join us for a very popular day of Polish festivities! Experience Polish food\, music\, dancing and learn more about Polish Heritage. Tickets available at the door. Hosted by the Polish Heritage Festival Committee.</span></p>\n
LOCATION:Friendship Botanic Gardens 2055 East US Highway 12 Michigan City\, IN 46360
UID:e.1949.4327
SEQUENCE:3
DTSTAMP:20260423T093300Z
URL:https://members.laportepartnership.com/events/details/polish-fest-4327
END:VEVENT

END:VCALENDAR
