BEGIN:VCALENDAR
VERSION:2.0
PRODID:-//ChamberMaster//Event Calendar 2.0//EN
METHOD:PUBLISH
X-PUBLISHED-TTL:P3D
REFRESH-INTERVAL:P3D
CALSCALE:GREGORIAN
BEGIN:VEVENT
DTSTART:20171021T140000Z
DTEND:20171021T183000Z
X-MICROSOFT-CDO-ALLDAYEVENT:FALSE
SUMMARY:Purdue University Northwest Explore Your Roar Open House
DESCRIPTION:9:00 am to 1:30 pm\n\nCheck-in starts at 8:30 am\n\n\n\nOCTOBER 21 Westville Campus\n\nDworkin Student Services & Activities Complex\n\n1401 U.S. Hwy 421   Westville\, IN 46391\n\n\n\nPurdue University Northwest offers unmatched resources\, personalized attention\, nearly 100\n\nstudent organizations\, 13 athletic teams and more on two student-centered campuses.\n\nBoth open houses are free and open to prospective students of all ages and their families.\n\nTour our vibrant campuses\, meet our faculty\, students & alumni\, and learn more about . . .\n\n  Undergraduate & Graduate Programs\n\n  Campus Life & Housing Options\n\n  Financial Aid & Scholarships\n\n  Honors College\n\n\n\nREGISTER TODAY AT: pnw.edu/open-house
X-ALT-DESC;FMTTYPE=text/html:9:00 am to 1:30 pm<br />\nCheck-in starts at 8:30 am<br />\n<br />\nOCTOBER 21&nbsp\;Westville Campus<br />\nDworkin Student Services &amp\; Activities Complex<br />\n1401 U.S. Hwy 421 &bull\; Westville\, IN 46391<br />\n<br />\nPurdue University Northwest offers unmatched resources\, personalized attention\, nearly 100<br />\nstudent organizations\, 13 athletic teams and more on two student-centered campuses.<br />\nBoth open houses are free and open to prospective students of all ages and their families.<br />\nTour our vibrant campuses\, meet our faculty\, students &amp\; alumni\, and learn more about . . .<br />\n&bull\; Undergraduate &amp\; Graduate Programs<br />\n&bull\; Campus Life &amp\; Housing Options<br />\n&bull\; Financial Aid &amp\; Scholarships<br />\n&bull\; Honors College<br />\n<br />\nREGISTER TODAY AT: pnw.edu/open-house<br />\n<br />\n&nbsp\;
LOCATION:PNW- Westville Campus Dworkin Student Services & Activities Complex 1401 U.S. Highway 421 Westville
UID:e.1949.2896
SEQUENCE:3
DTSTAMP:20260424T230241Z
URL:https://members.laportepartnership.com/events/details/purdue-university-northwest-explore-your-roar-open-house-2896
END:VEVENT

END:VCALENDAR
