BEGIN:VCALENDAR
VERSION:2.0
PRODID:-//ChamberMaster//Event Calendar 2.0//EN
METHOD:PUBLISH
X-PUBLISHED-TTL:P3D
REFRESH-INTERVAL:P3D
CALSCALE:GREGORIAN
BEGIN:VEVENT
DTSTART:20170325T153000Z
DTEND:20170325T173000Z
X-MICROSOFT-CDO-ALLDAYEVENT:FALSE
SUMMARY:Put Your Best Fork Forward
DESCRIPTION:It's possible to eat delicious foods while still staying healthy\, and the entire community is invited to Put Your Best Fork Forward   a free National Nutrition Month & Diabetes Alert Day Health Fair from 10:30 a.m.   12:30 p.m.\, March 25 at the Community Health Center\, 400 Teegarden St.\, Suite B\, La Porte.\n\n \n\nLa Porte Hospital's expert team of nutritionists\, registered dietitians and certified diabetes educators will be on hand to provide free blood pressure and blood sugar screenings. Other event features include healthy recipe tasting\, interactive educational activities\, and prize drawings at 11 a.m.\, 11:30 a.m.\, Noon\, and 12:30 p.m. Participants must be present to win.\n\n \n\nThose attending can also learn about dining with diabetes\, and can interact with certified diabetes educators and other experts to ask questions about nutrition\, diabetes\, and any related topics.\n\n \n\nRegistration is not required for the event. For more information\, call Patty Leonard\, RN\, CDE\, at (219) 326-2478.
X-ALT-DESC;FMTTYPE=text/html:<strong><span style="font-family:calibri\,sans-serif\;"><span style="font-size:11.0pt\;">&ndash\;</span></span></strong><span style="color:black\;"><span style="font-family:calibri\,sans-serif\;"><span style="font-size:11.0pt\;"> It&rsquo\;s possible to eat delicious foods while still staying healthy\, and the entire community is invited to Put Your Best Fork Forward &ndash\; a free</span></span></span> <span style="font-family:calibri\,sans-serif\;"><span style="font-size:11.0pt\;">National Nutrition Month &amp\; Diabetes Alert Day Health Fair from 10:30 a.m. &ndash\; 12:30 p.m.\, March 25 at the Community Health Center\, 400 Teegarden St.\, Suite B\, La Porte.</span></span><br />\n&nbsp\;<br />\n<span style="font-family:calibri\,sans-serif\;"><span style="font-size:11.0pt\;">La Porte Hospital&rsquo\;s expert team of nutritionists\, registered dietitians and certified diabetes educators will be on hand to provide free blood pressure and blood sugar screenings. Other event features include healthy recipe tasting\, interactive educational activities\, and prize drawings at 11 a.m.\, 11:30 a.m.\, Noon\, and 12:30 p.m. Participants must be present to win.</span></span><br />\n&nbsp\;<br />\n<span style="font-family:calibri\,sans-serif\;"><span style="font-size:11.0pt\;">Those attending can also learn about dining with diabetes\, and can interact with certified diabetes educators and other experts to ask questions about nutrition\, diabetes\, and any related topics.</span></span><br />\n&nbsp\;<br />\n<span style="font-family:calibri\,sans-serif\;"><span style="font-size:11.0pt\;">Registration is not required for the event. For more information\, call Patty Leonard\, RN\, CDE\, at (219) 326-2478.</span></span>
LOCATION:Community Health Center 400 Teegarden St.\, Suite B La Porte
UID:e.1949.2748
SEQUENCE:3
DTSTAMP:20260425T132906Z
URL:https://members.laportepartnership.com/events/details/put-your-best-fork-forward-2748
END:VEVENT

END:VCALENDAR
