BEGIN:VCALENDAR
VERSION:2.0
PRODID:-//ChamberMaster//Event Calendar 2.0//EN
METHOD:PUBLISH
X-PUBLISHED-TTL:P3D
REFRESH-INTERVAL:P3D
CALSCALE:GREGORIAN
BEGIN:VEVENT
DTSTART:20180601T200000Z
DTEND:20180601T220000Z
X-MICROSOFT-CDO-ALLDAYEVENT:FALSE
SUMMARY:Qubit Happy Hour at Valpo Pour House
DESCRIPTION:We are excited to co-host a Happy Hour with Check Point Software on June 1st at 3 pm. Join us at this casual event for drinks\, food\, and networking at Valparaiso Pour House. \n\n\n\nLearn what is new with Qubit Networks and Check Point Software and get to know our team.\n\n\n\nWe hope to see you there!\n\n\n\nIf you have any questions\, please e-mail Nikki: nikki@qubitnet.com
X-ALT-DESC;FMTTYPE=text/html:<span style="color:#43404D\;"><span style="font-family:georgia\,serif\;"><span style="font-size:13.5pt\;">We are excited to co-host a Happy Hour with Check Point Software on June 1st at 3 pm. Join us at this casual event for drinks\, food\, and networking at <a href="https://qubitnet.us10.list-manage.com/track/click?u=f2a300b9ec139ef5c65bd3bbf&amp\;id=ce4f0a2f74&amp\;e=a2aeae5df3" style="-ms-text-size-adjust:100%\;-webkit-text-size-adjust:100%\;" target="_blank"><span style="color:#ED5E29\;">Valparaiso Pour House</span></a>.&nbsp\;<br />\n<br />\nLearn what is new with Qubit Networks and Check Point Software and get to know our team.<br />\n<br />\nWe hope to see you there!</span></span></span><br />\n<br />\nIf you have any questions\, please e-mail Nikki: nikki@qubitnet.com
LOCATION:Valparaiso Pour House 54 W. Lincolnway Valparaiso
UID:e.1949.4151
SEQUENCE:3
DTSTAMP:20260424T084823Z
URL:https://members.laportepartnership.com/events/details/qubit-happy-hour-at-valpo-pour-house-4151
END:VEVENT

END:VCALENDAR
