BEGIN:VCALENDAR
VERSION:2.0
PRODID:-//ChamberMaster//Event Calendar 2.0//EN
METHOD:PUBLISH
X-PUBLISHED-TTL:P3D
REFRESH-INTERVAL:P3D
CALSCALE:GREGORIAN
BEGIN:VEVENT
DTSTART:20180509T160000Z
DTEND:20180509T183000Z
X-MICROSOFT-CDO-ALLDAYEVENT:FALSE
SUMMARY:R.O.S.E. Luncheon
DESCRIPTION:Join us as we celebrate National Tourism Week at the R.O.S.E (Recognition of Service Excellence) Luncheon. It is hosted by Visit Michigan City LaPorte and Indiana Dunes Tourism on Wednesday\, May 9\, 2018.  Doors open at 11 am\, events start at 11:30 am. This year we will celebrate at the LaPorte Civic Auditorium\, 1001 Ridge Street in LaPorte.  Keynote speaker will LaPorte business man and former Indiana State Representative Tom Dermody.  Tickets are $40 per person or $295 per table of 8.  Kindly RSVP by April 20th.\n\nMenu: Choose one\n\n1. Airline chicken breast with leek cream sauce\n\n2. Copper mountain ruby trout with champagne butter sauce and grapes\n\n3. Portabella wellington with spinach\, roasted peppers and artichoke cream cheese with pesto cream sauce\n\nPlease indicate number of attendees and meal choice.\n\nRSVP: 219-872-5055\n\ninfo@michigancitylaporte.com
X-ALT-DESC;FMTTYPE=text/html:<span style="color:black\;"><span style="font-family:arial\,sans-serif\;"><span style="font-size:11.0pt\;">Join us as we celebrate National Tourism Week at the R.O.S.E (Recognition of Service Excellence) Luncheon. It is hosted by Visit Michigan City LaPorte and Indiana Dunes Tourism on Wednesday\, May 9\, 2018.&nbsp\; Doors open at 11 am\, events start at 11:30 am. This year we will celebrate at the LaPorte Civic Auditorium\, 1001 Ridge Street in LaPorte.&nbsp\; Keynote speaker will LaPorte business man and former Indiana State Representative Tom Dermody.&nbsp\; Tickets are $40 per person or $295 per table of 8.&nbsp\; Kindly RSVP by April 20th.</span></span></span><br />\n<span style="color:black\;"><span style="font-family:arial\,sans-serif\;"><span style="font-size:11.0pt\;">Menu: Choose one</span></span></span><br />\n<strong><span style="color:black\;"><span style="font-family:arial\,sans-serif\;"><span style="font-size:11.0pt\;">1.</span></span></span></strong><span style="color:black\;"><span style="font-family:arial\,sans-serif\;"><span style="font-size:11.0pt\;"> Airline chicken breast with leek cream sauce</span></span></span><br />\n<strong><span style="color:black\;"><span style="font-family:arial\,sans-serif\;"><span style="font-size:11.0pt\;">2.</span></span></span></strong><span style="color:black\;"><span style="font-family:arial\,sans-serif\;"><span style="font-size:11.0pt\;"> Copper mountain ruby trout with champagne butter sauce and grapes</span></span></span><br />\n<strong><span style="color:black\;"><span style="font-family:arial\,sans-serif\;"><span style="font-size:11.0pt\;">3.</span></span></span></strong><span style="color:black\;"><span style="font-family:arial\,sans-serif\;"><span style="font-size:11.0pt\;"> Portabella wellington with spinach\, roasted peppers and artichoke cream cheese with pesto cream sauce</span></span></span><br />\n<span style="color:black\;"><span style="font-family:arial\,sans-serif\;"><span style="font-size:11.0pt\;">Please indicate number of attendees and meal choice.</span></span></span><br />\n<span style="color:black\;"><span style="font-family:arial\,sans-serif\;"><span style="font-size:11.0pt\;">RSVP: 219-872-5055</span></span></span><br />\n<span style="color:black\;"><span style="font-family:arial\,sans-serif\;"><span style="font-size:11.0pt\;"><a href="mailto:info@michigancitylaporte.com">info@michigancitylaporte.com</a></span></span></span>
LOCATION:La Porte Civic Auditorium 1001 Ridge Street
UID:e.1949.4115
SEQUENCE:3
DTSTAMP:20260424T103232Z
URL:https://members.laportepartnership.com/events/details/r-o-s-e-luncheon-4115
END:VEVENT

END:VCALENDAR
