BEGIN:VCALENDAR
VERSION:2.0
PRODID:-//ChamberMaster//Event Calendar 2.0//EN
METHOD:PUBLISH
X-PUBLISHED-TTL:P3D
REFRESH-INTERVAL:P3D
CALSCALE:GREGORIAN
BEGIN:VEVENT
DTSTART:20190523T210000Z
DTEND:20190523T233000Z
X-MICROSOFT-CDO-ALLDAYEVENT:FALSE
SUMMARY:Raymond & Spence Insurance Group\, LLC Business & Brews
DESCRIPTION:Join the La Porte Economic Advancement Partnership at Raymond & Spence Insurance Group\, LLC on May 23rd for a Business & Brews event to network with the area's business professionals Raymond & Spence Insurance Group\, LLC. will hold the event at their 1212 Lincolnway location in La Porte. More details to come! Attendees can begin arriving at 4:00 p.m. and the event will last until 6:30 p.m.\n\n\n\nBrent Raymond & Bill Spence have been protecting families and businesses in La Porte County for well over a decade. Raymond & Spence Insurance Group was founded to better serve our community with the best insurance plans at the lowest possible rates! To learn more about Raymond & Spence go to http://www.raymondspence.com or call their La Porte office at: 219.344.5160.
X-ALT-DESC;FMTTYPE=text/html:<div _mce_style="text-align: left\;" align="left" style="color: rgb(69\, 69\, 69)\; font-family: Arial\, Helvetica\, sans-serif\; font-size: 13.3333px\;"><span style="color: rgb(69\, 69\, 69)\; font-family: Arial\, Helvetica\, sans-serif\; background-color: rgb(255\, 255\, 255)\; font-size: 16px\;"><span style="font-family: arial\;">Join the La Porte Economic Advancement Partnership&nbsp\;at Raymond &amp\; Spence&nbsp\;Insurance Group\, LLC on May&nbsp\;23rd&nbsp\;for a Business &amp\;&nbsp\;Brews event&nbsp\;to network with the area&#39\;s business professionals Raymond &amp\; Spence Insurance Group\, LLC. will hold the event at their 1212 Lincolnway&nbsp\;location in La Porte. More details to come!&nbsp\;Attendees can begin arriving at 4:00 p.m. and the event will last until 6:30 p.m.</span></span><br />\n<br />\n<span style="color: rgb(69\, 69\, 69)\; font-size: 13.3333px\; background-color: rgb(255\, 255\, 255)\; font-family: arial\;"><span style="color: rgb(102\, 102\, 102)\; font-size: 16px\;">Brent Raymond &amp\; Bill Spence have been protecting families and businesses in La Porte County for well over a decade. Raymond &amp\; Spence Insurance Group was founded to better serve our community with the best insurance plans at the lowest possible rates!&nbsp\;</span></span><span style="color: rgb(69\, 69\, 69)\; font-family: arial\; font-size: 16px\; background-color: rgb(255\, 255\, 255)\;">To learn more about Raymond &amp\; Spence go to http://www.raymondspence.com or call their La Porte office at: 219.344.5160.</span></div>\n
LOCATION:Raymond & Spence Insurance Group\, LLC. 1212 Lincolnway La Porte
UID:e.1949.4351
SEQUENCE:3
DTSTAMP:20260423T165915Z
URL:https://members.laportepartnership.com/events/details/raymond-spence-insurance-group-llc-business-brews-4351
END:VEVENT

END:VCALENDAR
