BEGIN:VCALENDAR
VERSION:2.0
PRODID:-//ChamberMaster//Event Calendar 2.0//EN
METHOD:PUBLISH
X-PUBLISHED-TTL:P3D
REFRESH-INTERVAL:P3D
CALSCALE:GREGORIAN
BEGIN:VEVENT
DTSTART:20171004T210000Z
DTEND:20171004T220000Z
X-MICROSOFT-CDO-ALLDAYEVENT:FALSE
SUMMARY:Raymond & Spence Insurance Group Ribbon Cutting
DESCRIPTION:Raymond & Spence Insurance Group will hold a ribbon cutting on October 4 at 4:00 p.m. to celebrate the new business. An open house will begin earlier at 3:00 p.m. The event will take place at their newly renovated offices located at 1212 Lincolnway in La Porte\, and the ribbon cutting will be administered by the Greater La Porte Chamber of Commerce.\n\nRaymond & Spence Insurance Group offers home\, auto\, life\, and business insurance. Contact them for a quote for your personal needs today!\n\nFor more information about Raymond & Spence Insurance Group\, visit their Facebook page or call 219.344.5160.
X-ALT-DESC;FMTTYPE=text/html:<span style="font-family:georgia\,serif\;"><span style="font-size:12.0pt\;">Raymond &amp\; Spence Insurance Group will hold a ribbon cutting on October 4 at 4:00 p.m. to celebrate the new business. An open house will begin earlier at 3:00 p.m.&nbsp\;The event will take place at their newly renovated offices located at 1212 Lincolnway in La Porte\, and the ribbon cutting will be administered by the Greater La Porte Chamber of Commerce.</span></span><br />\n<span style="font-family:georgia\,serif\;"><span style="font-size:12.0pt\;">Raymond &amp\; Spence Insurance Group offers home\, auto\, life\, and business insurance. Contact them for a quote for your personal needs today!</span></span><br />\n<span style="font-family:georgia\,serif\;"><span style="font-size:12.0pt\;">For more information about Raymond &amp\; Spence Insurance Group\, visit their Facebook page or call 219.344.5160.&nbsp\;</span></span>
LOCATION:Raymond & Spence Insurance Group 1212 Lincolnway La Porte
UID:e.1949.2885
SEQUENCE:3
DTSTAMP:20260425T002424Z
URL:https://members.laportepartnership.com/events/details/raymond-spence-insurance-group-ribbon-cutting-2885
END:VEVENT

END:VCALENDAR
