BEGIN:VCALENDAR
VERSION:2.0
PRODID:-//ChamberMaster//Event Calendar 2.0//EN
METHOD:PUBLISH
X-PUBLISHED-TTL:P3D
REFRESH-INTERVAL:P3D
CALSCALE:GREGORIAN
BEGIN:VEVENT
DTSTART:20171212T150000Z
DTEND:20171212T220000Z
X-MICROSOFT-CDO-ALLDAYEVENT:FALSE
SUMMARY:Re-Entry Citizen Workshop at WorkOne La Porte
DESCRIPTION:La Porte County Residents!\n\nAre you a Re-Entry Citizen?\n\nReady to get back in the workforce?\n\nRe-Entry Citizen Workshop!\n\nDecember 12\, 2017\n\nWorkOne La Porte- 300 Legacy Plaza West\n\nWorkshop Schedule:\n\n9:00-9:30 a.m.- Orientation\n\n9:45-10:15 a.m.- Successful Work Habits\n\n10:30 a.m.-12:00 p.m.- Local Job Market Inforamtion\n\nBREAK (Return dressed to impress)\n\n1:00-3:00 p.m.- In-Person Employer Interviews (Be prepared for an interview)\n\n3:00-4:00 p.m.- Schedule Career Advisor Appointment\n\nMust be registered to attend\n\nFor more information or to register contact Jennifer at 219-263-8418 or jejones2@dwd.in.gov
X-ALT-DESC;FMTTYPE=text/html:La Porte County Residents!<br />\nAre you a Re-Entry Citizen?<br />\nReady to get back in the workforce?<br />\nRe-Entry Citizen Workshop!<br />\nDecember 12\, 2017<br />\nWorkOne La Porte- 300 Legacy Plaza West<br />\nWorkshop Schedule:<br />\n9:00-9:30 a.m.- Orientation<br />\n9:45-10:15 a.m.- Successful Work Habits<br />\n10:30 a.m.-12:00 p.m.- Local Job Market Inforamtion<br />\nBREAK (Return dressed to impress)<br />\n1:00-3:00 p.m.- In-Person Employer Interviews (Be prepared for an interview)<br />\n3:00-4:00 p.m.- Schedule Career Advisor Appointment<br />\nMust be registered to attend<br />\nFor more information or to register contact Jennifer at 219-263-8418 or jejones2@dwd.in.gov
LOCATION:WorkOne La Porte 300 Legacy Plaza West La Porte
UID:e.1949.2975
SEQUENCE:3
DTSTAMP:20260424T193206Z
URL:https://members.laportepartnership.com/events/details/re-entry-citizen-workshop-at-workone-la-porte-2975
END:VEVENT

END:VCALENDAR
