BEGIN:VCALENDAR
VERSION:2.0
PRODID:-//ChamberMaster//Event Calendar 2.0//EN
METHOD:PUBLISH
X-PUBLISHED-TTL:P3D
REFRESH-INTERVAL:P3D
CALSCALE:GREGORIAN
BEGIN:VEVENT
DTSTART:20180328T230000Z
DTEND:20180329T010000Z
X-MICROSOFT-CDO-ALLDAYEVENT:FALSE
SUMMARY:READ La Porte County- Community Spell Bowl
DESCRIPTION:Join us for READ La Porte County's Community Spell Bowl! The event will take place on Thursday\, March 28\, 2018 at the La Porte VFW Hall\, 181 W. McClung Road in La Porte. Doors will open at 6:00 p.m. and the tournament will begin promptly at 6:30 p.m.\n\n\n\nRound up your teams for a fun-filled evening of competitive S-P-E-L-L-I-N-G! The Spirit Award will be presented tot he table with the most spirited table decorations/team representing their business or organization.\n\n\n\nCome join us for good food\, good laughs\, and happy times! We hope to see you there!\n\n\n\nQuestions? Please call (219) 325-0875 or email us at readlaportecounty@gmail.com\n\n\n\nDeadline: March 21
X-ALT-DESC;FMTTYPE=text/html:<p>Join us for READ La Porte County&#39\;s Community Spell Bowl! The event will take place on Thursday\, March 28\, 2018 at the La Porte VFW Hall\, 181 W. McClung Road in La Porte. Doors will open at 6:00 p.m. and the tournament will begin promptly at 6:30 p.m.<br />\n<br />\nRound up your teams for a fun-filled evening of competitive S-P-E-L-L-I-N-G! The Spirit Award will be presented tot he table with the most spirited table decorations/team representing their business or organization.<br />\n<br />\nCome join us for good food\, good laughs\, and happy times! We hope to see you there!<br />\n<br />\nQuestions? Please call (219) 325-0875 or email us at readlaportecounty@gmail.com<br />\n<br />\nDeadline: March 21</p>\n
LOCATION:La Porte VFW Hall 181 W. McClung Road
UID:e.1949.3053
SEQUENCE:3
DTSTAMP:20260424T134256Z
URL:https://members.laportepartnership.com/events/details/read-la-porte-county-community-spell-bowl-3053
END:VEVENT

END:VCALENDAR
