BEGIN:VCALENDAR
VERSION:2.0
PRODID:-//ChamberMaster//Event Calendar 2.0//EN
METHOD:PUBLISH
X-PUBLISHED-TTL:P3D
REFRESH-INTERVAL:P3D
CALSCALE:GREGORIAN
BEGIN:VEVENT
DTSTART:20161022T150000Z
DTEND:20161022T183000Z
X-MICROSOFT-CDO-ALLDAYEVENT:FALSE
SUMMARY:READ La Porte County Tutor Training
DESCRIPTION:READ La Porte County\, Inc. is hosting a tutor training from 10:00am to 1:30pm on Saturday\, October 22 at Bethany Lutheran Church at the corner of First and G Streets in La Porte.  Anyone who is interested in being a volunteer tutor for English speaking adults in reading or adults who wish to learn to improve their skills in speaking English is invited to come.  Registration by calling 219-325-0875 or emailing mhedge8@comcast.net is encouraged so enough space and supplies can be provided.  There is no charge.\n\nThe morning session will cover how to get started with tutoring\, traits of adult students\, materials to use\, and motivating students.  This will be followed by a short\, simple lunch.  The next session will cover tutoring adults whose first language was not English.  Tips and materials to use while teaching them to improve their speaking as well as reading skills will be covered.\n\nREAD La Porte County\, Inc. also provides tutoring for children in school and outside of school time and tutoring for adults in math\, financial literacy\, workplace literacy\, health literacy\, and digital literacy skills.  These services will also be briefly covered. \n\nThere is a waiting list of students\, so new tutors are greatly needed.  Tutors choose which subjects\, ages\, times\, and places they wish to tutor.\n\nREAD La Porte County\, Inc. is a United Way agency.  It is currently also receiving grant funding from the Bethany Lutheran Church of La Porte Foundation\, Inc.\, Dollar General Literacy Foundation for tutoring at the Community Corrections Center and Worthy Women Recovery Home\, and the Unity Foundation for English as a Second Language Classes for Adults at Handley Elementary School
X-ALT-DESC;FMTTYPE=text/html:READ La Porte County\, Inc. is hosting a tutor training from 10:00am to 1:30pm on Saturday\, October 22 at Bethany Lutheran Church at the corner of First and G Streets in La Porte.&nbsp\; Anyone who is interested in being a volunteer tutor for English speaking adults in reading or adults who wish to learn to improve their skills in speaking English is invited to come.&nbsp\; Registration by calling 219-325-0875 or emailing <a href="mailto:mhedge8@comcast.net">mhedge8@comcast.net</a> is encouraged so enough space and supplies can be provided.&nbsp\; There is no charge.<br />\nThe morning session will cover how to get started with tutoring\, traits of adult students\, materials to use\, and motivating students.&nbsp\; This will be followed by a short\, simple lunch.&nbsp\; The next session will cover tutoring adults whose first language was not English.&nbsp\; Tips and materials to use while teaching them to improve their speaking as well as reading skills will be covered.<br />\nREAD La Porte County\, Inc. also provides tutoring for children in school and outside of school time and tutoring for adults in math\, financial literacy\, workplace literacy\, health literacy\, and digital literacy skills.&nbsp\; These services will also be briefly covered.&nbsp\;<br />\nThere is a waiting list of students\, so new tutors are greatly needed.&nbsp\; Tutors choose which subjects\, ages\, times\, and places they wish to tutor.<br />\nREAD La Porte County\, Inc. is a United Way agency.&nbsp\; It is currently also receiving grant funding from the Bethany Lutheran Church of La Porte Foundation\, Inc.\, Dollar General Literacy Foundation for tutoring at the Community Corrections Center and Worthy Women Recovery Home\, and the Unity Foundation for English as a Second Language Classes for Adults at Handley Elementary School
LOCATION:Bethany Lutheran Church Corner of 1st and G Streets in La Porte
UID:e.1949.2647
SEQUENCE:3
DTSTAMP:20260425T203954Z
URL:https://members.laportepartnership.com/events/details/read-la-porte-county-tutor-training-2647
END:VEVENT

END:VCALENDAR
