BEGIN:VCALENDAR
VERSION:2.0
PRODID:-//ChamberMaster//Event Calendar 2.0//EN
METHOD:PUBLISH
X-PUBLISHED-TTL:P3D
REFRESH-INTERVAL:P3D
CALSCALE:GREGORIAN
BEGIN:VEVENT
DTSTART:20180412T230000Z
DTEND:20180413T010000Z
X-MICROSOFT-CDO-ALLDAYEVENT:FALSE
SUMMARY:Read Local Series- First Event at La Porte County Public LIbrary
DESCRIPTION:The La Porte County Public Library kicks off the first event in the Read Local series on Thursday\, April 12 at 6:00pm at the Main Library with La Porte native and author\, Karen Day\, as she joins us to discuss her newest novel\, I'll Stay. Karen is the author of three young adult novels\, Tall Tales\, No Cream Puffs\, and A Million Miles from Boston. I'll Stay is her first adult novel. In this compelling\, emotionally complex novel\, a college friendship sparks a life-changing sacrifice that connects two women forever--even as it shatters their closeness.\n\nCome and enjoy hearing Karen discuss how she came to write books\, the process in which she goes through for her books\, and some insight to help future creative writers. All ages are welcome. Light refreshments will be provided by the Friends of the La Porte County Public Library.\n\nFor more information on library services go to laportelibrary.org or call 219-362-6156. And\, as always\, follow our social media for up-to-date announcements and information.
X-ALT-DESC;FMTTYPE=text/html:The La Porte County Public Library kicks off the first event in the Read Local series on Thursday\, April 12 at 6:00pm at the Main Library with La Porte native and author\, Karen Day\, as she joins us to discuss her newest novel\, I&#39\;ll Stay. Karen is the author of three young adult novels\, Tall Tales\, No Cream Puffs\, and A Million Miles from Boston. I&rsquo\;ll Stay is her first adult novel. In this compelling\, emotionally complex novel\, a college friendship sparks a life-changing sacrifice that connects two women forever--even as it shatters their closeness.<br />\nCome and enjoy hearing Karen discuss how she came to write books\, the process in which she goes through for her books\, and some insight to help future creative writers. All ages are welcome. Light refreshments will be provided by the Friends of the La Porte County Public Library.<br />\nFor more information on library services go to laportelibrary.org or call 219-362-6156. And\, as always\, follow our social media for up-to-date announcements and information.
LOCATION:La Porte County Public Library- Main Library 904 Indiana Avenue La Porte
UID:e.1949.4105
SEQUENCE:3
DTSTAMP:20260424T134345Z
URL:https://members.laportepartnership.com/events/details/read-local-series-first-event-at-la-porte-county-public-library-4105
END:VEVENT

END:VCALENDAR
