BEGIN:VCALENDAR
VERSION:2.0
PRODID:-//ChamberMaster//Event Calendar 2.0//EN
METHOD:PUBLISH
X-PUBLISHED-TTL:P3D
REFRESH-INTERVAL:P3D
CALSCALE:GREGORIAN
BEGIN:VEVENT
DTSTART:20160703T200000Z
DTEND:20160704T030000Z
X-MICROSOFT-CDO-ALLDAYEVENT:FALSE
SUMMARY:Red Wine & Brew Fest
DESCRIPTION:Nashville's HOTTEST Rising Stars will be here in LaPorte for this year's Red Wine and Brew   a update to the 40 year tradition - "The Beer Barns" \n\nLocated in the Pioneer Land area of the LaPorte Fairgrounds\, you can pull into the fairgrounds to park near the quaint buildings of Pioneer Land\, where you will see them transformed to craft beer saloons with some rocking country/classic rock on the stage at the end of the street from 3pm to 9:30pm.
X-ALT-DESC;FMTTYPE=text/html:<p data-alt-style="line-height: 1.5\; margin-bottom: 0.7em\;" style="margin: 0px 0px 0.7em\; padding: 0px\; border: none\; outline: none\; font-size: 15px\; vertical-align: baseline\; -webkit-font-smoothing: subpixel-antialiased\; color: rgb(0\, 0\, 0)\; font-family: helvetica\; line-height: 1.5\; background: rgb(250\, 250\, 250)\;"><span data-alt-style="font-family:&quot\;helvetica&quot\;\; font-size:15px\; font-style:normal\; text-decoration:none" style="margin: 0px\; padding: 0px\; border: none\; outline: none\; font-size: 16px\; vertical-align: baseline\; -webkit-font-smoothing: subpixel-antialiased\; font-family: raleway\; font-weight: bold\; background: transparent\;"><span style="margin: 0px\; padding: 0px\; border: none\; outline: none\; vertical-align: baseline\; -webkit-font-smoothing: subpixel-antialiased\; background: transparent\;">Nashville&rsquo\;s HOTTEST Rising Stars will be here in LaPorte for this year&rsquo\;s Red Wine and Brew &ndash\; a update to the 40 year tradition - &ldquo\;The Beer Barns&rdquo\;&nbsp\;</span></span></p>\n\n<p data-alt-style="line-height: 1.5\; margin-bottom: 0.7em\;" style="margin: 0px 0px 0.7em\; padding: 0px\; border: none\; outline: none\; font-size: 15px\; vertical-align: baseline\; -webkit-font-smoothing: subpixel-antialiased\; color: rgb(0\, 0\, 0)\; font-family: helvetica\; line-height: 1.5\; background: rgb(250\, 250\, 250)\;"><span data-alt-style="font-family:&quot\;helvetica&quot\;\; font-size:15px\; font-style:normal\; text-decoration:none" style="margin: 0px\; padding: 0px\; border: none\; outline: none\; font-size: 16px\; vertical-align: baseline\; -webkit-font-smoothing: subpixel-antialiased\; font-family: raleway\; font-weight: bold\; background: transparent\;"><span style="margin: 0px\; padding: 0px\; border: none\; outline: none\; vertical-align: baseline\; -webkit-font-smoothing: subpixel-antialiased\; background: transparent\;">Located in the Pioneer Land area of the LaPorte Fairgrounds\, you can pull into the fairgrounds to park near the quaint buildings of Pioneer Land\, where you will see them transformed to craft beer saloons with some rocking country/classic rock on the stage at the end of the street from 3pm to 9:30pm.&nbsp\;</span></span></p>\n
LOCATION:Pioneer Land La Porte County Fairgrounds
UID:e.1949.2575
SEQUENCE:3
DTSTAMP:20260426T021251Z
URL:https://members.laportepartnership.com/events/details/red-wine-brew-fest-07-03-2016-2575
END:VEVENT

END:VCALENDAR
