BEGIN:VCALENDAR
VERSION:2.0
PRODID:-//ChamberMaster//Event Calendar 2.0//EN
METHOD:PUBLISH
X-PUBLISHED-TTL:P3D
REFRESH-INTERVAL:P3D
CALSCALE:GREGORIAN
BEGIN:VEVENT
DTSTART:20161103T210000Z
DTEND:20161104T000000Z
X-MICROSOFT-CDO-ALLDAYEVENT:FALSE
SUMMARY:Regional Development Company Annual Membership Meeting
DESCRIPTION:Regional Development Company\n \n\nAnnual Membership Meeting\n\n \n\nNovember 3\, 2016\n\n \n\n4-7 pm CST\n\n \n\nWhite Hawk Country Club\n\n1001 White Hawk Drive\, Crown Point IN  46307\n\n \n\nBank of the Year\n\nLenders of the Year\n\nReferral Source of the Year\n\n$$  Cash Prize $$\n\n \n\nRSVP to Carla Lundgren at admin@rdc504.org
X-ALT-DESC;FMTTYPE=text/html:<h2 align="center" style="margin-bottom:.0001pt\;text-align:center\;"><span style="color:#1595D3\;"><span style="font-family:arial\,sans-serif\;">Regional Development Company</span></span></h2>\n&nbsp\;<br />\n<strong><span style="font-family:arial\,sans-serif\;"><span style="font-size:18pt\;">Annual Membership Meeting</span></span></strong><br />\n&nbsp\;<br />\n<strong><span style="font-family:arial\,sans-serif\;"><span style="font-size:14pt\;">November 3\, 2016</span></span></strong><br />\n&nbsp\;<br />\n<strong><span style="font-family:arial\,sans-serif\;"><span style="font-size:14pt\;">4-7 pm CST</span></span></strong><br />\n&nbsp\;<br />\n<strong><span style="font-family:arial\,sans-serif\;"><span style="font-size:14pt\;">White Hawk Country Club</span></span></strong><br />\n<strong><span style="font-family:arial\,sans-serif\;"><span style="font-size:14pt\;">1001 White Hawk Drive\, Crown Point IN&nbsp\; 46307</span></span></strong><br />\n&nbsp\;<br />\n<strong><span style="font-family:arial\,sans-serif\;"><span style="font-size:14pt\;">Bank of the Year</span></span></strong><br />\n<strong><span style="font-family:arial\,sans-serif\;"><span style="font-size:14pt\;">Lenders of the Year</span></span></strong><br />\n<strong><span style="font-family:arial\,sans-serif\;"><span style="font-size:14pt\;">Referral Source of the Year</span></span></strong><br />\n<strong><span style="font-family:arial\,sans-serif\;"><span style="font-size:14pt\;">$$&nbsp\; Cash Prize $$</span></span></strong><br />\n&nbsp\;<br />\n<span style="font-family:arial\,sans-serif\;"><span style="font-size:14pt\;">RSVP to Carla Lundgren at <a href="mailto:admin@rdc504.org" shape="rect" target="_blank">admin@rdc504.org</a></span></span>
LOCATION:White Hawk Country Club 1 White Hawk Drive Crown Point
UID:e.1949.2648
SEQUENCE:3
DTSTAMP:20260425T185912Z
URL:https://members.laportepartnership.com/events/details/regional-development-company-annual-membership-meeting-2648
END:VEVENT

END:VCALENDAR
