BEGIN:VCALENDAR
VERSION:2.0
PRODID:-//ChamberMaster//Event Calendar 2.0//EN
METHOD:PUBLISH
X-PUBLISHED-TTL:P3D
REFRESH-INTERVAL:P3D
CALSCALE:GREGORIAN
BEGIN:VEVENT
DTSTART:20160727T161500Z
DTEND:20160727T180000Z
X-MICROSOFT-CDO-ALLDAYEVENT:FALSE
SUMMARY:Regional Development Company Membership Luncheon
DESCRIPTION:The Greater La Porte Chamber of Commerce will host a Chamber Membership Luncheon on Wednesday\, July 27 at Trattoria Enzo\, 601 Michigan Avenue\, La Porte.\n\n \n\nThe presenter at the event will be the Regional Development Company. Erica Dombey\, President and Executive Director of the organization\, will be presenting on the 504 loan program. Attendees will learn how they can finance or refinance their owner occupied commercial real estate at 90% loan-to-value. Registration begins at 11:15 a.m. with the luncheon and presentation at 11:30 a.m. Pre-registration is encouraged and may be done by clicking the link above or by calling (219) 362-3178. The cost is $18 for members and $25 for non-Chamber members.\n\n \n\nTo learn more about the Regional Development Company\, visit www.rdc504.org.
X-ALT-DESC;FMTTYPE=text/html:The <strong>Greater La Porte Chamber of Commerce</strong> will host a Chamber Membership Luncheon on Wednesday\, July 27 at <strong>Trattoria Enzo</strong>\, 601 Michigan Avenue\, La Porte.<br />\n&nbsp\;<br />\nThe presenter at the event will be the <strong>Regional Development Company</strong>. Erica Dombey\, President and Executive Director of the organization\, will be presenting on the 504 loan program. Attendees will learn how they can finance or refinance their owner occupied commercial real estate at 90% loan-to-value. Registration begins at 11:15 a.m. with the luncheon and presentation at 11:30 a.m. Pre-registration is encouraged and may be done by clicking the link above or by calling (219) 362-3178. <strong><span style="font-family:calibri\,sans-serif\;">The cost is $18 for members and $25 for non-Chamber members.</span></strong><br />\n&nbsp\;<br />\nTo learn more about the <strong>Regional Development Company\, </strong>visit <a href="http://www.rdc504.org/">www.rdc504.org</a>.
LOCATION:Trattoria Enzo 601 Michigan Avenue La Porte
UID:e.1949.2588
SEQUENCE:3
DTSTAMP:20260426T021519Z
URL:https://members.laportepartnership.com/events/details/regional-development-company-membership-luncheon-07-27-2016-2588
END:VEVENT

END:VCALENDAR
