BEGIN:VCALENDAR
VERSION:2.0
PRODID:-//ChamberMaster//Event Calendar 2.0//EN
METHOD:PUBLISH
X-PUBLISHED-TTL:P3D
REFRESH-INTERVAL:P3D
CALSCALE:GREGORIAN
BEGIN:VEVENT
DTSTART:20161001T133000Z
DTEND:20161002T213000Z
X-MICROSOFT-CDO-ALLDAYEVENT:FALSE
SUMMARY:Reins of Life 2016 Dressage Show Series
DESCRIPTION:Very exciting weekend at Reins of Life in Michigan City.\n\nThe Reins of Life 2016 Dressage Schooling Show Series will take place on Saturday & Sunday October 1-2 at our Michigan City facility between 8:30 am and 4:30 pm CST. Come to witness an Olympic discipline in your own backyard\, where horse (or mule) & human perform together as gracefully as dance partners.\n\nThis one-of-a kind event is free and open to the public. Make it a day of fun in the beautiful Fall scenery!\n\nRemember\, you cannot miss it!
X-ALT-DESC;FMTTYPE=text/html:<p style="margin-top:0in\;margin-right:0in\;margin-bottom:8.65pt\;margin-left:\n0in\;background:#F9F9FB"><strong><span style="font-family:&quot\;Helvetica&quot\;\,sans-serif">Very exciting weekend at Reins of Life in Michigan City.</span></strong><span style="font-family:&quot\;Helvetica&quot\;\,sans-serif"><o:p></o:p></span></p>\n\n<p style="margin-top:0in\;margin-right:0in\;margin-bottom:8.65pt\;margin-left:\n0in\;background:#F9F9FB"><span style="font-family:&quot\;Helvetica&quot\;\,sans-serif">The<span class="apple-converted-space">&nbsp\;</span><strong>Reins of Life 2016 Dressage Schooling Show Series</strong><span class="apple-converted-space">&nbsp\;</span>will take place on Saturday &amp\; Sunday October 1-2 at our Michigan City facility between 8:30 am and 4:30 pm CST. Come to witness an Olympic discipline in your own backyard\, where horse (or mule) &amp\; human perform together as gracefully as dance partners.<o:p></o:p></span></p>\n\n<p style="margin-top:0in\;margin-right:0in\;margin-bottom:8.65pt\;margin-left:\n0in\;background:#F9F9FB"><span style="font-family:&quot\;Helvetica&quot\;\,sans-serif">This one-of-a kind event is<span class="apple-converted-space">&nbsp\;</span><strong>free and open to the public.</strong><span class="apple-converted-space"><b>&nbsp\;</b></span>Make it a day of fun in the beautiful Fall scenery!<o:p></o:p></span></p>\n\n<p style="margin-top:0in\;margin-right:0in\;margin-bottom:8.65pt\;margin-left:\n0in\;background:#F9F9FB"><strong><span style="font-family:&quot\;Helvetica&quot\;\,sans-serif">Remember\, you cannot miss it!</span></strong><span style="font-family:&quot\;Helvetica&quot\;\,sans-serif"><o:p></o:p></span></p>\n\n<p style="margin-top:0in\;margin-right:0in\;margin-bottom:8.65pt\;margin-left:\n0in\;background:#F9F9FB"><span style="font-family:&quot\;Helvetica&quot\;\,sans-serif"><o:p></o:p></span></p>\n\n<p style="margin-top:0in\;margin-right:0in\;margin-bottom:8.65pt\;margin-left:\n0in\;background:#F9F9FB"><span style="font-family:&quot\;Helvetica&quot\;\,sans-serif"><o:p></o:p></span></p>\n\n<p style="margin-top:0in\;margin-right:0in\;margin-bottom:8.65pt\;margin-left:\n0in\;background:#F9F9FB"><span style="font-family:&quot\;Helvetica&quot\;\,sans-serif"><o:p></o:p></span></p>\n
LOCATION:Reins of Life 9375 W 300 N Michigan City
UID:e.1949.2633
SEQUENCE:3
DTSTAMP:20260425T223925Z
URL:https://members.laportepartnership.com/events/details/reins-of-life-2016-dressage-show-series-2633
END:VEVENT

END:VCALENDAR
