BEGIN:VCALENDAR
VERSION:2.0
PRODID:-//ChamberMaster//Event Calendar 2.0//EN
METHOD:PUBLISH
X-PUBLISHED-TTL:P3D
REFRESH-INTERVAL:P3D
CALSCALE:GREGORIAN
BEGIN:VEVENT
DTSTART:20180602T130000Z
DTEND:20180603T210000Z
X-MICROSOFT-CDO-ALLDAYEVENT:FALSE
SUMMARY:Reins of Life Dressage Show
DESCRIPTION:Join ROL\, St. Joseph County area and surrounding areas for the 2018 Benefit Dressage Show located at our South Bend barn! While attending a Reins of Life Dressage Show you will see riders from around the area compete along side of Reins of Life therapeutic horseback riding students. ? The Reins of Life Dressage Show is judged by the USDF (United States Dressage Federation) professionals and is sanctioned by the Michiana Dressage Club.
X-ALT-DESC;FMTTYPE=text/html:Join ROL\, St. Joseph County area and surrounding areas for the 2018 Benefit Dressage Show located at our South Bend barn! While attending a Reins of Life Dressage Show you will see riders from around the area compete along side of Reins of Life therapeutic horseback riding students. ? The Reins of Life Dressage Show is judged by the USDF (United States Dressage Federation) professionals and is sanctioned by the Michiana Dressage Club.
LOCATION:55200 Quince Road South Bend\, IN 46619
UID:e.1949.4159
SEQUENCE:3
DTSTAMP:20260424T090638Z
URL:https://members.laportepartnership.com/events/details/reins-of-life-dressage-show-4159
END:VEVENT

END:VCALENDAR
