BEGIN:VCALENDAR
VERSION:2.0
PRODID:-//ChamberMaster//Event Calendar 2.0//EN
METHOD:PUBLISH
X-PUBLISHED-TTL:P3D
REFRESH-INTERVAL:P3D
CALSCALE:GREGORIAN
BEGIN:VEVENT
DTSTART:20180605T223000Z
DTEND:20180608T020000Z
X-MICROSOFT-CDO-ALLDAYEVENT:FALSE
SUMMARY:Reins of Life\, Inc. New Volunteer Training- South Bend
DESCRIPTION:OPEN TO ALL 13YRS+ Previous Horse Experience Not Necessary   Learn Therapeutic Riding Basics   Grow Horsemanship Skills   Become a Lesson Volunteer
X-ALT-DESC;FMTTYPE=text/html:OPEN TO ALL 13YRS+ Previous Horse Experience Not Necessary &bull\; Learn Therapeutic Riding Basics &bull\; Grow Horsemanship Skills &bull\; Become a Lesson Volunteer
LOCATION:55200 Quince Road South Bend\, IN 46619
UID:e.1949.4161
SEQUENCE:3
DTSTAMP:20260424T090601Z
URL:https://members.laportepartnership.com/events/details/reins-of-life-inc-new-volunteer-training-south-bend-4161
END:VEVENT

END:VCALENDAR
