BEGIN:VCALENDAR
VERSION:2.0
PRODID:-//ChamberMaster//Event Calendar 2.0//EN
METHOD:PUBLISH
X-PUBLISHED-TTL:P3D
REFRESH-INTERVAL:P3D
CALSCALE:GREGORIAN
BEGIN:VEVENT
DTSTART:20170429T210000Z
DTEND:20170430T000000Z
X-MICROSOFT-CDO-ALLDAYEVENT:FALSE
SUMMARY:Relay for Life 5th Annual Spaghetti Dinner
DESCRIPTION:Lifesaver's Relay for Life Team 5th Annual Spaghetti Dinner.
X-ALT-DESC;FMTTYPE=text/html:Lifesaver&#39\;s Relay for Life Team 5th Annual Spaghetti Dinner.
LOCATION:LaPorte First Church of God 2020 E Lincolnway\, La Porte\, IN 46350
UID:e.1949.2749
SEQUENCE:3
DTSTAMP:20260425T114613Z
URL:https://members.laportepartnership.com/events/details/relay-for-life-5th-annual-spaghetti-dinner-2749
END:VEVENT

END:VCALENDAR
