BEGIN:VCALENDAR
VERSION:2.0
PRODID:-//ChamberMaster//Event Calendar 2.0//EN
METHOD:PUBLISH
X-PUBLISHED-TTL:P3D
REFRESH-INTERVAL:P3D
CALSCALE:GREGORIAN
BEGIN:VEVENT
DTSTART:20170320T160000Z
DTEND:20170321T040000Z
X-MICROSOFT-CDO-ALLDAYEVENT:FALSE
SUMMARY:Relay for Life Hacienda Team Challenge Give Back Night
DESCRIPTION:Bring in a coupon with a Team Name on the back of them\, or purchase a gift cards. Each person purchasing a gift card is counted the same as one coupon. The team that has the most "coupons" turned in wins the pot. So you have 19 teams helping one team be a big winner. But the biggest winner is our Survivors and Cancer is the biggest loser. Love it!
X-ALT-DESC;FMTTYPE=text/html:Bring in a coupon with a Team Name on the back of them\, or purchase a gift cards. Each person purchasing a gift card is counted the same as one coupon. The team that has the most &ldquo\;coupons&rdquo\; turned in wins the pot. So you have 19 teams helping one team be a big winner. But the biggest winner is our Survivors and Cancer is the biggest loser. Love it!
LOCATION:Hacienda 2148 N. Karwick Road Michigan City IN 46360
UID:e.1949.2755
SEQUENCE:3
DTSTAMP:20260425T114736Z
URL:https://members.laportepartnership.com/events/details/relay-for-life-hacienda-team-challenge-give-back-night-2755
END:VEVENT

END:VCALENDAR
