BEGIN:VCALENDAR
VERSION:2.0
PRODID:-//ChamberMaster//Event Calendar 2.0//EN
METHOD:PUBLISH
X-PUBLISHED-TTL:P3D
REFRESH-INTERVAL:P3D
CALSCALE:GREGORIAN
BEGIN:VEVENT
DTSTART:20160611T150000Z
DTEND:20160612T110000Z
X-MICROSOFT-CDO-ALLDAYEVENT:FALSE
SUMMARY:Relay For Life LaPorte County
DESCRIPTION:This is a fun event for the entire family. Free admittance\, free kids area\, free dinner for cancer survivors and their caregivers. Various foods\, wares and activities are available for a donation to the American Cancer Society (ACS). The ACS Relay For Life is the world's largest and most impactful fundraising event to end cancer. It unites communities across the globe to celebrate people who have battled cancer\, remember loved ones lost\, and take action to finish the fight once and for all.
X-ALT-DESC;FMTTYPE=text/html:This is a fun event for the entire family. Free admittance\, free kids area\, free dinner for cancer survivors and their caregivers. Various foods\, wares and activities are available for a donation to the American Cancer Society (ACS). The ACS Relay For Life is the world&#39\;s largest and most impactful fundraising event to end cancer. It unites communities across the globe to celebrate people who have battled cancer\, remember loved ones lost\, and take action to finish the fight once and for all.
LOCATION:LaPorte County Fairgrounds 2581 IN 2 LaPorte\, IN 46350
UID:e.1949.2481
SEQUENCE:3
DTSTAMP:20260426T033910Z
URL:https://members.laportepartnership.com/events/details/relay-for-life-laporte-county-06-11-2016-2481
END:VEVENT

END:VCALENDAR
