BEGIN:VCALENDAR
VERSION:2.0
PRODID:-//ChamberMaster//Event Calendar 2.0//EN
METHOD:PUBLISH
X-PUBLISHED-TTL:P3D
REFRESH-INTERVAL:P3D
CALSCALE:GREGORIAN
BEGIN:VEVENT
DTSTART:20170905T230000Z
DTEND:20170906T000000Z
X-MICROSOFT-CDO-ALLDAYEVENT:FALSE
SUMMARY:Relay For Life Meeting
DESCRIPTION:This is our first planning meeting for the 23rd Annual Relay For Life of LaPorte County. If you are interested in finding out more about Relay For Life or how to become involved\, join us for our monthly meeting at 6pm where we discuss plans for this year's event. This is a fun event for the entire family. Free admittance\, free entertainment\, free kids area\, free dinner for cancer survivors and their caregivers. Various foods\, wares\, games and activities are available for a donation to the American Cancer Society (ACS). The ACS Relay For Life is the world's largest and most impactful fundraising event to end cancer. It unites communities across the globe to celebrate people who have battled cancer\, remember loved ones lost\, and take action to finish the fight once and for all.
X-ALT-DESC;FMTTYPE=text/html:This is our first planning meeting for the 23rd Annual Relay For Life of LaPorte County. If you are interested in finding out more about Relay For Life or how to become involved\, join us for our monthly meeting at 6pm where we discuss plans for this year&#39\;s event. This is a fun event for the entire family. Free admittance\, free entertainment\, free kids area\, free dinner for cancer survivors and their caregivers. Various foods\, wares\, games and activities are available for a donation to the American Cancer Society (ACS). The ACS Relay For Life is the world&#39\;s largest and most impactful fundraising event to end cancer. It unites communities across the globe to celebrate people who have battled cancer\, remember loved ones lost\, and take action to finish the fight once and for all.
LOCATION:LaPorte First Church of God 2020 E Lincolnway LaPorte\, IN 46350
UID:e.1949.2874
SEQUENCE:3
DTSTAMP:20260425T002515Z
URL:https://members.laportepartnership.com/events/details/relay-for-life-meeting-09-05-2017-2874
END:VEVENT

END:VCALENDAR
