BEGIN:VCALENDAR
VERSION:2.0
PRODID:-//ChamberMaster//Event Calendar 2.0//EN
METHOD:PUBLISH
X-PUBLISHED-TTL:P3D
REFRESH-INTERVAL:P3D
CALSCALE:GREGORIAN
BEGIN:VEVENT
DTSTART:20171010T230000Z
DTEND:20171011T000000Z
X-MICROSOFT-CDO-ALLDAYEVENT:FALSE
SUMMARY:Relay For Life Meeting
DESCRIPTION:The planning committee for the 2018 Relay For Life of LaPorte County meets the 2nd Tuesday of each month from 6 PM to 7 PM at: The First Church of God   2020 E Lincolnway   LaPorte. Relay For Life is the American Cancer Society's largest fundraiser. Please join us and help plan this year's event which will be held June 16-17 at the LaPorte County Fairgrounds.
X-ALT-DESC;FMTTYPE=text/html:The planning committee for the 2018 Relay For Life of LaPorte County meets the 2nd Tuesday of each month from 6 PM to 7 PM at: The First Church of God &ndash\; 2020 E Lincolnway &ndash\; LaPorte. Relay For Life is the American Cancer Society&rsquo\;s largest fundraiser. Please join us and help plan this year&rsquo\;s event which will be held June 16-17 at the LaPorte County Fairgrounds.
LOCATION:First Church of God 2020 E Lincolnway LaPorte
UID:e.1949.2904
SEQUENCE:3
DTSTAMP:20260424T230415Z
URL:https://members.laportepartnership.com/events/details/relay-for-life-meeting-10-10-2017-2904
END:VEVENT

END:VCALENDAR
