BEGIN:VCALENDAR
VERSION:2.0
PRODID:-//ChamberMaster//Event Calendar 2.0//EN
METHOD:PUBLISH
X-PUBLISHED-TTL:P3D
REFRESH-INTERVAL:P3D
CALSCALE:GREGORIAN
BEGIN:VEVENT
DTSTART:20171011T230000Z
DTEND:20171012T000000Z
X-MICROSOFT-CDO-ALLDAYEVENT:FALSE
SUMMARY:Relay For Life Meeting
DESCRIPTION:The planning committee for the 2018 Relay For Life\, LaPorte County meets the 2nd Tuesday of each month from 6:00pm. till 7:00 pm at The First Church of God-2020 Lincolnway in LaPorte. Please come and help us plan our event. Join a team bring your own team. Come see what we are about. Every one is welcome. The dates. for the 20018 Relay For Life is June 16-17
X-ALT-DESC;FMTTYPE=text/html:The planning committee for the 2018 Relay For Life\, LaPorte County meets the 2nd Tuesday of each month from 6:00pm. till 7:00 pm at The First Church of God-2020 Lincolnway in LaPorte. Please come and help us plan our event. Join a team bring your own team. Come see what we are about. Every one is welcome. The dates. for the 20018 Relay For Life is June 16-17
LOCATION:
UID:e.1949.2894
SEQUENCE:3
DTSTAMP:20260425T002613Z
URL:https://members.laportepartnership.com/events/details/relay-for-life-meeting-10-11-2017-2894
END:VEVENT

END:VCALENDAR
