BEGIN:VCALENDAR
VERSION:2.0
PRODID:-//ChamberMaster//Event Calendar 2.0//EN
METHOD:PUBLISH
X-PUBLISHED-TTL:P3D
REFRESH-INTERVAL:P3D
CALSCALE:GREGORIAN
BEGIN:VEVENT
DTSTART:20170222T000000Z
DTEND:20170222T013000Z
X-MICROSOFT-CDO-ALLDAYEVENT:FALSE
SUMMARY:Relay For Life Meeting
DESCRIPTION:If you are interested in finding out more about Relay For Life or how to become involved\, join us for our monthly meeting. 6pm - 6:30pm is Relay 101. Each month focuses on one of the many aspects of Relaying\, such as fundraisers\, how to build your team\, contests and activities. From 6:30pm - 7:30pm we discuss plans for this year's event. Feel free to stay after the meeting from 7:30pm - 8:30pm to learn how the Event Leadership Team makes this event happen.
X-ALT-DESC;FMTTYPE=text/html:If you are interested in finding out more about Relay For Life or how to become involved\, join us for our monthly meeting. 6pm - 6:30pm is Relay 101. Each month focuses on one of the many aspects of Relaying\, such as fundraisers\, how to build your team\, contests and activities. From 6:30pm - 7:30pm we discuss plans for this year&#39\;s event. Feel free to stay after the meeting from 7:30pm - 8:30pm to learn how the Event Leadership Team makes this event happen.
LOCATION:LaPorte County Fairgrounds Community Bldg 2581 W. State Rd. 2
UID:e.1949.2714
SEQUENCE:3
DTSTAMP:20260425T133217Z
URL:https://members.laportepartnership.com/events/details/relay-for-life-meeting-2714
END:VEVENT

END:VCALENDAR
